FILENAME: O4610409.NWS.1163657.tif
QUADRANGLE_NAME: MARSH SW
QUADRANT: NW
WEST_LONGITUDE: -105 0 0.00000
EAST_LONGITUDE: -104 56 15.00000
NORTH_LATITUDE: 46 52 30.00000
SOUTH_LATITUDE: 46 48 45.00000
PRODUCTION_DATE: 2001 9 24
RASTER_ORDER: LEFT_RIGHT/TOP_BOTTOM
BAND_ORGANIZATION: SINGLE FILE
BAND_CONTENT: BLACK&WHITE
BAND_CONTENT: UNDEFINED
BAND_CONTENT: UNDEFINED
BITS_PER_PIXEL: 8
SAMPLES_AND_LINES: 5420 7559
HORIZONTAL_DATUM: NAD83
HORIZONTAL_COORDINATE_SYSTEM: UTM
COORDINATE_ZONE: 13
HORIZONTAL_UNITS: meters
HORIZONTAL_RESOLUTION: 1.00000
SECONDARY_HORIZONTAL_DATUM: NAD27
XY_ORIGIN: 499654.00000 5191582.00000
SECONDARY_XY_ORIGIN: 499694.22200 5191362.54700
NATION: US
STATE: MT
NW_QUAD_CORNER_XY: 500000.00000 5191273.46600
NE_QUAD_CORNER_XY: 504762.66900 5191275.36200
SE_QUAD_CORNERY_XY: 504768.19600 5184330.15400
SW_QUAD_CORNER_XY: 500000.00000 5184328.25800
SECONDARY_NW_QUAD_XY: 500000.00000 5191054.99000
SECONDARY_NE_QUAD_XY: 504762.81500 5191056.88600
SECONDARY_SE_QUAD_XY: 504768.34200 5184111.70900
SECONDARY_SW_QUAD_XY: 500000.00000 5184109.81200
RMSE_XY: 1.14000
IMAGE_SOURCE: BLACK AND WHITE FILM
SOURCE_IMAGE_ID: NAPP 9096-073
SOURCE_IMAGE_DATE: 1996 7 9
SOURCE_DEM_DATE: 1999 0 0
AGENCY: WESTERN MAPPING CENTER (WMC)
PRODUCER: WOOLPERT LLP
PRODUCTION_SYSTEM: INTERGRAPH ISPM, ISIR
COMPRESSION: UNDEFINED
STANDARD_VERSION: 1996 12
METADATA_DATE: 2001 10 9
DATA_FILE_SIZE: 40975200
BYTE_COUNT: 5420
