FILENAME: O4610412.NWS.1163649.tif
QUADRANGLE_NAME: GRAVEYARD HILL
QUADRANT: NW
WEST_LONGITUDE: -104 37 30.00000
EAST_LONGITUDE: -104 33 45.00000
NORTH_LATITUDE: 46 52 30.00000
SOUTH_LATITUDE: 46 48 45.00000
PRODUCTION_DATE: 2001 9 24
RASTER_ORDER: LEFT_RIGHT/TOP_BOTTOM
BAND_ORGANIZATION: SINGLE FILE
BAND_CONTENT: BLACK&WHITE
BAND_CONTENT: UNDEFINED
BAND_CONTENT: UNDEFINED
BITS_PER_PIXEL: 8
SAMPLES_AND_LINES: 5451 7582
HORIZONTAL_DATUM: NAD83
HORIZONTAL_COORDINATE_SYSTEM: UTM
COORDINATE_ZONE: 13
HORIZONTAL_UNITS: meters
HORIZONTAL_RESOLUTION: 1.00000
SECONDARY_HORIZONTAL_DATUM: NAD27
XY_ORIGIN: 528232.00000 5191673.00000
SECONDARY_XY_ORIGIN: 528271.81400 5191453.54000
NATION: US
STATE: MT
NW_QUAD_CORNER_XY: 528576.00100 5191341.71900
NE_QUAD_CORNER_XY: 533338.66200 5191366.36700
SE_QUAD_CORNERY_XY: 533377.34900 5184421.17100
SW_QUAD_CORNER_XY: 528609.16100 5184396.52100
SECONDARY_NW_QUAD_XY: 528576.87900 5191123.24500
SECONDARY_NE_QUAD_XY: 533339.68700 5191147.89300
SECONDARY_SE_QUAD_XY: 533378.37400 5184202.72900
SECONDARY_SW_QUAD_XY: 528610.03900 5184178.07700
RMSE_XY: 2.45000
IMAGE_SOURCE: BLACK AND WHITE FILM
SOURCE_IMAGE_ID: NAPP 9108-034
SOURCE_IMAGE_DATE: 1996 8 8
SOURCE_IMAGE_ID: NAPP 9108-035
SOURCE_IMAGE_DATE: 1996 8 8
SOURCE_DEM_DATE: 1999 0 0
AGENCY: WESTERN MAPPING CENTER (WMC)
PRODUCER: WOOLPERT LLP
PRODUCTION_SYSTEM: INTERGRAPH ISPM, ISIR
COMPRESSION: UNDEFINED
STANDARD_VERSION: 1996 12
METADATA_DATE: 2001 10 10
DATA_FILE_SIZE: 41334933
BYTE_COUNT: 5451
