FILENAME: O4610414.SWS.1159477.tif
QUADRANGLE_NAME: HODGES SE
QUADRANT: SW
WEST_LONGITUDE: -104 22 30.00000
EAST_LONGITUDE: -104 18 45.00000
NORTH_LATITUDE: 46 48 45.00000
SOUTH_LATITUDE: 46 45 0.00000
PRODUCTION_DATE: 2001 9 17
RASTER_ORDER: LEFT_RIGHT/TOP_BOTTOM
BAND_ORGANIZATION: SINGLE FILE
BAND_CONTENT: BLACK&WHITE
BAND_CONTENT: UNDEFINED
BAND_CONTENT: UNDEFINED
BITS_PER_PIXEL: 8
SAMPLES_AND_LINES: 5478 7597
HORIZONTAL_DATUM: NAD83
HORIZONTAL_COORDINATE_SYSTEM: UTM
COORDINATE_ZONE: 13
HORIZONTAL_UNITS: meters
HORIZONTAL_RESOLUTION: 1.00000
SECONDARY_HORIZONTAL_DATUM: NAD27
XY_ORIGIN: 547338.00000 5184864.00000
SECONDARY_XY_ORIGIN: 547377.54500 5184644.59300
NATION: US
STATE: MT
NW_QUAD_CORNER_XY: 547681.89800 5184517.87900
NE_QUAD_CORNER_XY: 552450.07400 5184557.70000
SE_QUAD_CORNERY_XY: 552510.80700 5177612.59900
SW_QUAD_CORNER_XY: 547737.10900 5177572.77300
SECONDARY_NW_QUAD_XY: 547683.36100 5184299.43900
SECONDARY_NE_QUAD_XY: 552451.68400 5184339.26200
SECONDARY_SE_QUAD_XY: 552512.41700 5177394.19200
SECONDARY_SW_QUAD_XY: 547738.57200 5177354.36400
RMSE_XY: 2.38000
IMAGE_SOURCE: BLACK AND WHITE FILM
SOURCE_IMAGE_ID: NAPP 9095-050
SOURCE_IMAGE_DATE: 1996 7 9
SOURCE_IMAGE_ID: NAPP 9095-049
SOURCE_IMAGE_DATE: 1996 7 9
SOURCE_DEM_DATE: 1999 0 0
AGENCY: WESTERN MAPPING CENTER (WMC)
PRODUCER: WOOLPERT LLP
PRODUCTION_SYSTEM: INTERGRAPH ISPM, ISIR
COMPRESSION: UNDEFINED
STANDARD_VERSION: 1996 12
METADATA_DATE: 2001 9 27
DATA_FILE_SIZE: 41621844
BYTE_COUNT: 5478
