FILENAME: O4610414.SES.1159476.tif
QUADRANGLE_NAME: HODGES SE
QUADRANT: SE
WEST_LONGITUDE: -104 18 45.00000
EAST_LONGITUDE: -104 15 0.00000
NORTH_LATITUDE: 46 48 45.00000
SOUTH_LATITUDE: 46 45 0.00000
PRODUCTION_DATE: 2001 9 17
RASTER_ORDER: LEFT_RIGHT/TOP_BOTTOM
BAND_ORGANIZATION: SINGLE FILE
BAND_CONTENT: BLACK&WHITE
BAND_CONTENT: UNDEFINED
BAND_CONTENT: UNDEFINED
BITS_PER_PIXEL: 8
SAMPLES_AND_LINES: 5483 7601
HORIZONTAL_DATUM: NAD83
HORIZONTAL_COORDINATE_SYSTEM: UTM
COORDINATE_ZONE: 13
HORIZONTAL_UNITS: meters
HORIZONTAL_RESOLUTION: 1.00000
SECONDARY_HORIZONTAL_DATUM: NAD27
XY_ORIGIN: 552107.00000 5184908.00000
SECONDARY_XY_ORIGIN: 552146.47400 5184688.57100
NATION: US
STATE: MT
NW_QUAD_CORNER_XY: 552450.07400 5184557.70000
NE_QUAD_CORNER_XY: 557218.24600 5184601.31500
SE_QUAD_CORNERY_XY: 557284.50100 5177656.21900
SW_QUAD_CORNER_XY: 552510.80700 5177612.59900
SECONDARY_NW_QUAD_XY: 552451.68400 5184339.26200
SECONDARY_NE_QUAD_XY: 557220.00300 5184382.87800
SECONDARY_SE_QUAD_XY: 557286.25700 5177437.81300
SECONDARY_SW_QUAD_XY: 552512.41700 5177394.19200
RMSE_XY: 2.55000
IMAGE_SOURCE: BLACK AND WHITE FILM
SOURCE_IMAGE_ID: NAPP 9124-032
SOURCE_IMAGE_DATE: 1997 8 22
SOURCE_IMAGE_ID: NAPP 9124-033
SOURCE_IMAGE_DATE: 1997 8 22
SOURCE_DEM_DATE: 1999 0 0
AGENCY: WESTERN MAPPING CENTER (WMC)
PRODUCER: WOOLPERT LLP
PRODUCTION_SYSTEM: INTERGRAPH ISPM, ISIR
COMPRESSION: UNDEFINED
STANDARD_VERSION: 1996 12
METADATA_DATE: 2001 9 27
DATA_FILE_SIZE: 41681766
BYTE_COUNT: 5483
