FILENAME: O4610420.NWS.1163653.tif
QUADRANGLE_NAME: AYER SPRING NE
QUADRANT: NW
WEST_LONGITUDE: -104 37 30.00000
EAST_LONGITUDE: -104 33 45.00000
NORTH_LATITUDE: 46 45 0.00000
SOUTH_LATITUDE: 46 41 15.00000
PRODUCTION_DATE: 2001 9 24
RASTER_ORDER: LEFT_RIGHT/TOP_BOTTOM
BAND_ORGANIZATION: SINGLE FILE
BAND_CONTENT: BLACK&WHITE
BAND_CONTENT: UNDEFINED
BAND_CONTENT: UNDEFINED
BITS_PER_PIXEL: 8
SAMPLES_AND_LINES: 5462 7581
HORIZONTAL_DATUM: NAD83
HORIZONTAL_COORDINATE_SYSTEM: UTM
COORDINATE_ZONE: 13
HORIZONTAL_UNITS: meters
HORIZONTAL_RESOLUTION: 1.00000
SECONDARY_HORIZONTAL_DATUM: NAD27
XY_ORIGIN: 528298.00000 5177782.00000
SECONDARY_XY_ORIGIN: 528337.86400 5177562.72700
NATION: US
STATE: MT
NW_QUAD_CORNER_XY: 528642.28700 5177451.39800
NE_QUAD_CORNER_XY: 533415.99600 5177476.05200
SE_QUAD_CORNERY_XY: 533454.60400 5170531.00800
SW_QUAD_CORNER_XY: 528675.37900 5170506.35100
SECONDARY_NW_QUAD_XY: 528643.16500 5177232.98600
SECONDARY_NE_QUAD_XY: 533417.02100 5177257.64100
SECONDARY_SE_QUAD_XY: 533455.62800 5170312.62900
SECONDARY_SW_QUAD_XY: 528676.25700 5170287.97200
RMSE_XY: 2.75000
IMAGE_SOURCE: BLACK AND WHITE FILM
SOURCE_IMAGE_ID: NAPP 9108-030
SOURCE_IMAGE_DATE: 1996 8 8
SOURCE_DEM_DATE: 1999 0 0
AGENCY: WESTERN MAPPING CENTER (WMC)
PRODUCER: WOOLPERT LLP
PRODUCTION_SYSTEM: INTERGRAPH ISPM, ISIR
COMPRESSION: UNDEFINED
STANDARD_VERSION: 1996 12
METADATA_DATE: 2001 10 10
DATA_FILE_SIZE: 41412884
BYTE_COUNT: 5462
