FILENAME: O4610421.NWS.1159471.tif
QUADRANGLE_NAME: ROCKING CHAIR BUTTE
QUADRANT: NW
WEST_LONGITUDE: -104 30 0.00000
EAST_LONGITUDE: -104 26 15.00000
NORTH_LATITUDE: 46 45 0.00000
SOUTH_LATITUDE: 46 41 15.00000
PRODUCTION_DATE: 2001 9 17
RASTER_ORDER: LEFT_RIGHT/TOP_BOTTOM
BAND_ORGANIZATION: SINGLE FILE
BAND_CONTENT: BLACK&WHITE
BAND_CONTENT: UNDEFINED
BAND_CONTENT: UNDEFINED
BITS_PER_PIXEL: 8
SAMPLES_AND_LINES: 5473 7589
HORIZONTAL_DATUM: NAD83
HORIZONTAL_COORDINATE_SYSTEM: UTM
COORDINATE_ZONE: 13
HORIZONTAL_UNITS: meters
HORIZONTAL_RESOLUTION: 1.00000
SECONDARY_HORIZONTAL_DATUM: NAD27
XY_ORIGIN: 537846.00000 5177843.00000
SECONDARY_XY_ORIGIN: 537885.70800 5177623.72600
NATION: US
STATE: MT
NW_QUAD_CORNER_XY: 538189.70300 5177504.49900
NE_QUAD_CORNER_XY: 542963.40800 5177536.73900
SE_QUAD_CORNERY_XY: 543013.04600 5170591.70300
SW_QUAD_CORNER_XY: 538233.82600 5170559.45900
SECONDARY_NW_QUAD_XY: 538190.87400 5177286.08900
SECONDARY_NE_QUAD_XY: 542964.72500 5177318.33000
SECONDARY_SE_QUAD_XY: 543014.36300 5170373.32600
SECONDARY_SW_QUAD_XY: 538234.99700 5170341.08100
RMSE_XY: 1.21000
IMAGE_SOURCE: BLACK AND WHITE FILM
SOURCE_IMAGE_ID: NAPP 9107-016
SOURCE_IMAGE_DATE: 1996 8 7
SOURCE_IMAGE_ID: NAPP 9107-017
SOURCE_IMAGE_DATE: 1996 8 7
SOURCE_DEM_DATE: 1999 0 0
AGENCY: WESTERN MAPPING CENTER (WMC)
PRODUCER: WOOLPERT LLP
PRODUCTION_SYSTEM: INTERGRAPH ISPM, ISIR
COMPRESSION: UNDEFINED
STANDARD_VERSION: 1996 12
METADATA_DATE: 2001 9 27
DATA_FILE_SIZE: 41540070
BYTE_COUNT: 5473
