FILENAME: O4610423.SWS.1159491.tif
QUADRANGLE_NAME: CARLYLE NW
QUADRANT: SW
WEST_LONGITUDE: -104 15 0.00000
EAST_LONGITUDE: -104 11 15.00000
NORTH_LATITUDE: 46 41 15.00000
SOUTH_LATITUDE: 46 37 30.00000
PRODUCTION_DATE: 2001 09 17
RASTER_ORDER: LEFT_RIGHT/TOP_BOTTOM
BAND_ORGANIZATION: SINGLE FILE
BAND_CONTENT: BLACK&WHITE
BAND_CONTENT: UNDEFINED
BAND_CONTENT: UNDEFINED
BITS_PER_PIXEL: 8
SAMPLES_AND_LINES: 5500 7604
HORIZONTAL_DATUM: NAD83
HORIZONTAL_COORDINATE_SYSTEM: UTM
COORDINATE_ZONE: 13
HORIZONTAL_UNITS: METERS
HORIZONTAL_RESOLUTION: 1.00000
SECONDARY_HORIZONTAL_DATUM: NAD27
XY_ORIGIN: 557007.00000 5171065.00000
SECONDARY_XY_ORIGIN: 557046.49300 5170845.76200
NATION: US
STATE: MT
NW_QUAD_CORNER_XY: 557350.68700 5170711.19800
NE_QUAD_CORNER_XY: 562129.89300 5170758.61800
SE_QUAD_CORNERY_XY: 562201.52100 5163813.67800
SW_QUAD_CORNER_XY: 557416.80400 5163766.25300
SECONDARY_NW_QUAD_XY: 557352.44300 5170492.82500
SECONDARY_NE_QUAD_XY: 562131.79500 5170540.24600
SECONDARY_SE_QUAD_XY: 562203.42300 5163595.33900
SECONDARY_SW_QUAD_XY: 557418.56000 5163547.91200
RMSE_XY: 2.43000
IMAGE_SOURCE: BLACK AND WHITE FILM
SOURCE_IMAGE_ID: NAPP 9123-242
SOURCE_IMAGE_DATE: 1997 08 03
SOURCE_DEM_DATE: 1999 00 00
AGENCY: WESTERN MAPPING CENTER (WMC)
PRODUCER: WOOLPERT LLP
PRODUCTION_SYSTEM: INTERGRAPH ISPM, ISIR
COMPRESSION: UNDEFINED
STANDARD_VERSION: 1996 12
METADATA_DATE: 2001 9 19
DATA_FILE_SIZE: 41827500
BYTE_COUNT: 5500
