FILENAME: O4610426.NES.1163676.tif
QUADRANGLE_NAME: ISMAY NORTH
QUADRANT: NE
WEST_LONGITUDE: -104 48 45.00000
EAST_LONGITUDE: -104 45 0.00000
NORTH_LATITUDE: 46 37 30.00000
SOUTH_LATITUDE: 46 33 45.00000
PRODUCTION_DATE: 2001 9 24
RASTER_ORDER: LEFT_RIGHT/TOP_BOTTOM
BAND_ORGANIZATION: SINGLE FILE
BAND_CONTENT: BLACK&WHITE
BAND_CONTENT: UNDEFINED
BAND_CONTENT: UNDEFINED
BITS_PER_PIXEL: 8
SAMPLES_AND_LINES: 5457 7570
HORIZONTAL_DATUM: NAD83
HORIZONTAL_COORDINATE_SYSTEM: UTM
COORDINATE_ZONE: 13
HORIZONTAL_UNITS: meters
HORIZONTAL_RESOLUTION: 1.00000
SECONDARY_HORIZONTAL_DATUM: NAD27
XY_ORIGIN: 514009.00000 5163830.00000
SECONDARY_XY_ORIGIN: 514049.12600 5163610.96700
NATION: US
STATE: MT
NW_QUAD_CORNER_XY: 514354.22200 5163510.16400
NE_QUAD_CORNER_XY: 519138.96200 5163523.44200
SE_QUAD_CORNERY_XY: 519160.97700 5156578.54200
SW_QUAD_CORNER_XY: 514370.73400 5156565.26300
SECONDARY_NW_QUAD_XY: 514354.66100 5163291.81500
SECONDARY_NE_QUAD_XY: 519139.54700 5163305.09400
SECONDARY_SE_QUAD_XY: 519161.56200 5156360.22900
SECONDARY_SW_QUAD_XY: 514371.17200 5156346.94800
RMSE_XY: 2.26000
IMAGE_SOURCE: BLACK AND WHITE FILM
SOURCE_IMAGE_ID: NAPP 9081-008
SOURCE_IMAGE_DATE: 1996 6 12
SOURCE_DEM_DATE: 1999 0 0
AGENCY: WESTERN MAPPING CENTER (WMC)
PRODUCER: WOOLPERT LLP
PRODUCTION_SYSTEM: INTERGRAPH ISPM, ISIR
COMPRESSION: UNDEFINED
STANDARD_VERSION: 1996 12
METADATA_DATE: 2001 10 10
DATA_FILE_SIZE: 41314947
BYTE_COUNT: 5457
