FILENAME: O4610427.SWS.1163643.tif
QUADRANGLE_NAME: AYER SPRING
QUADRANT: SW
WEST_LONGITUDE: -104 45 0.00000
EAST_LONGITUDE: -104 41 15.00000
NORTH_LATITUDE: 46 33 45.00000
SOUTH_LATITUDE: 46 30 0.00000
PRODUCTION_DATE: 2001 9 24
RASTER_ORDER: LEFT_RIGHT/TOP_BOTTOM
BAND_ORGANIZATION: SINGLE FILE
BAND_CONTENT: BLACK&WHITE
BAND_CONTENT: UNDEFINED
BAND_CONTENT: UNDEFINED
BITS_PER_PIXEL: 8
SAMPLES_AND_LINES: 5468 7574
HORIZONTAL_DATUM: NAD83
HORIZONTAL_COORDINATE_SYSTEM: UTM
COORDINATE_ZONE: 13
HORIZONTAL_UNITS: meters
HORIZONTAL_RESOLUTION: 1.00000
SECONDARY_HORIZONTAL_DATUM: NAD27
XY_ORIGIN: 518816.00000 5156902.00000
SECONDARY_XY_ORIGIN: 518856.08800 5156683.09600
NATION: US
STATE: MT
NW_QUAD_CORNER_XY: 519160.97700 5156578.54200
NE_QUAD_CORNER_XY: 523951.21900 5156595.61700
SE_QUAD_CORNERY_XY: 523978.70900 5149650.79500
SW_QUAD_CORNER_XY: 519182.96900 5149633.71900
SECONDARY_NW_QUAD_XY: 519161.56200 5156360.22900
SECONDARY_NE_QUAD_XY: 523951.95000 5156377.30300
SECONDARY_SE_QUAD_XY: 523979.44000 5149432.51700
SECONDARY_SW_QUAD_XY: 519183.55400 5149415.44000
RMSE_XY: 2.11000
IMAGE_SOURCE: BLACK AND WHITE FILM
SOURCE_IMAGE_ID: NAPP 9080-211
SOURCE_IMAGE_DATE: 1996 6 12
SOURCE_DEM_DATE: 1999 0 0
AGENCY: WESTERN MAPPING CENTER (WMC)
PRODUCER: WOOLPERT LLP
PRODUCTION_SYSTEM: INTERGRAPH ISPM, ISIR
COMPRESSION: UNDEFINED
STANDARD_VERSION: 1996 12
METADATA_DATE: 2001 10 10
DATA_FILE_SIZE: 41420100
BYTE_COUNT: 5468
