FILENAME: O4511406.SES.1068255.tif
QUADRANGLE_NAME: TRAPPER PEAK
QUADRANT: SE
WEST_LONGITUDE: -114 18 45.00000
EAST_LONGITUDE: -114 15 0.00000
NORTH_LATITUDE: 45 56 15.00000
SOUTH_LATITUDE: 45 52 30.00000
PRODUCTION_DATE: 2000 3 21
RASTER_ORDER: LEFT_RIGHT/TOP_BOTTOM
BAND_ORGANIZATION: SINGLE FILE
BAND_CONTENT: BLACK&WHITE
BAND_CONTENT: UNDEFINED
BAND_CONTENT: UNDEFINED
BITS_PER_PIXEL: 8
SAMPLES_AND_LINES: 5759 7723
HORIZONTAL_DATUM: NAD83
HORIZONTAL_COORDINATE_SYSTEM: UTM
COORDINATE_ZONE: 11
HORIZONTAL_UNITS: METERS
HORIZONTAL_RESOLUTION: 1.00000
SECONDARY_HORIZONTAL_DATUM: NAD27
XY_ORIGIN: 707958.00000 5091081.00000
SECONDARY_XY_ORIGIN: 708035.49200 5090874.52900
NATION: US
NATION: "SCIENCE
STATE: MT
NW_QUAD_CORNER_XY: 708331.11800 5090615.58700
NE_QUAD_CORNER_XY: 713175.91100 5090780.90700
SE_QUAD_CORNERY_XY: 713415.45700 5083837.08800
SW_QUAD_CORNER_XY: 708565.21300 5083671.75700
SECONDARY_NW_QUAD_XY: 708337.39500 5090397.76400
SECONDARY_NE_QUAD_XY: 713182.33400 5090563.08900
SECONDARY_SE_QUAD_XY: 713421.87900 5083619.31300
SECONDARY_SW_QUAD_XY: 708571.48900 5083453.97700
RMSE_XY: 3.70000
IMAGE_SOURCE: BLACK AND WHITE FILM
SOURCE_IMAGE_ID: NAPP 8406 115
SOURCE_IMAGE_DATE: 1995 07 31
SOURCE_IMAGE_ID: NAPP 8407 033
SOURCE_IMAGE_DATE: 1995 08 19
SOURCE_IMAGE_ID: NAPP 8407 034
SOURCE_IMAGE_DATE: 1995 08 19
SOURCE_IMAGE_ID: NAPP 8407 035
SOURCE_IMAGE_DATE: 1995 08 19
SOURCE_IMAGE_ID: NAPP 8407 157
SOURCE_IMAGE_DATE: 1995 08 19
SOURCE_DEM_DATE: 1997 00 00
AGENCY: WESTERN MAPPING CENTER (WMC)
PRODUCER: UNDEFINED
PRODUCTION_SYSTEM: GIS/MAGIC
COMPRESSION: UNDEFINED
STANDARD_VERSION: 1996 12
METADATA_DATE: 2000 04 20
DATA_FILE_SIZE: 44482516
BYTE_COUNT: 5759
