FILENAME: O4511406.NWS.1068253.tif
QUADRANGLE_NAME: TRAPPER PEAK
QUADRANT: NW
WEST_LONGITUDE: -114 22 30.00000
EAST_LONGITUDE: -114 18 45.00000
NORTH_LATITUDE: 46 0 0.00000
SOUTH_LATITUDE: 45 56 15.00000
PRODUCTION_DATE: 2000 3 7
RASTER_ORDER: LEFT_RIGHT/TOP_BOTTOM
BAND_ORGANIZATION: SINGLE FILE
BAND_CONTENT: BLACK&WHITE
BAND_CONTENT: UNDEFINED
BAND_CONTENT: UNDEFINED
BITS_PER_PIXEL: 8
SAMPLES_AND_LINES: 5748 7720
HORIZONTAL_DATUM: NAD83
HORIZONTAL_COORDINATE_SYSTEM: UTM
COORDINATE_ZONE: 11
HORIZONTAL_UNITS: METERS
HORIZONTAL_RESOLUTION: 1.00000
SECONDARY_HORIZONTAL_DATUM: NAD27
XY_ORIGIN: 702885.00000 5097860.00000
SECONDARY_XY_ORIGIN: 702962.44300 5097653.39400
NATION: US
NATION: "SCIENCE
STATE: MT
NW_QUAD_CORNER_XY: 703257.43100 5097397.97400
NE_QUAD_CORNER_XY: 708096.77400 5097559.47700
SE_QUAD_CORNERY_XY: 708331.11800 5090615.58700
SW_QUAD_CORNER_XY: 703486.31700 5090454.07300
SECONDARY_NW_QUAD_XY: 703263.56300 5097180.10400
SECONDARY_NE_QUAD_XY: 708103.05300 5097341.61100
SECONDARY_SE_QUAD_XY: 708337.39500 5090397.76400
SECONDARY_SW_QUAD_XY: 703492.44900 5090236.24500
RMSE_XY: 3.60000
IMAGE_SOURCE: BLACK AND WHITE FILM
SOURCE_IMAGE_ID: NAPP 8407 036
SOURCE_IMAGE_DATE: 1995 08 19
SOURCE_IMAGE_ID: NAPP 8407 035
SOURCE_IMAGE_DATE: 1995 08 19
SOURCE_IMAGE_ID: NAPP 8407 037
SOURCE_IMAGE_DATE: 1995 08 19
SOURCE_IMAGE_ID: NAPP 8407 038
SOURCE_IMAGE_DATE: 1995 08 19
SOURCE_IMAGE_ID: NAPP 8407 159
SOURCE_IMAGE_DATE: 1995 08 19
SOURCE_DEM_DATE: 1997 00 00
AGENCY: WESTERN MAPPING CENTER (WMC)
PRODUCER: UNDEFINED
PRODUCTION_SYSTEM: GIS/MAGIC
COMPRESSION: UNDEFINED
STANDARD_VERSION: 1996 12
METADATA_DATE: 2000 04 20
DATA_FILE_SIZE: 44380308
BYTE_COUNT: 5748
