FILENAME: O4511407.NWS.1068399.tif
QUADRANGLE_NAME: BURNT RIDGE
QUADRANT: NW
WEST_LONGITUDE: -114 15 0.00000
EAST_LONGITUDE: -114 11 15.00000
NORTH_LATITUDE: 46 0 0.00000
SOUTH_LATITUDE: 45 56 15.00000
PRODUCTION_DATE: 2000 3 21
RASTER_ORDER: LEFT_RIGHT/TOP_BOTTOM
BAND_ORGANIZATION: SINGLE FILE
BAND_CONTENT: BLACK&WHITE
BAND_CONTENT: UNDEFINED
BAND_CONTENT: UNDEFINED
BITS_PER_PIXEL: 8
SAMPLES_AND_LINES: 5758 7727
HORIZONTAL_DATUM: NAD83
HORIZONTAL_COORDINATE_SYSTEM: UTM
COORDINATE_ZONE: 11
HORIZONTAL_UNITS: METERS
HORIZONTAL_RESOLUTION: 1.00000
SECONDARY_HORIZONTAL_DATUM: NAD27
XY_ORIGIN: 712564.00000 5098194.00000
SECONDARY_XY_ORIGIN: 712641.49200 5097987.47400
NATION: US
NATION: "SCIENCE
STATE: MT
NW_QUAD_CORNER_XY: 712936.10900 5097724.78500
NE_QUAD_CORNER_XY: 717775.43500 5097893.89900
SE_QUAD_CORNERY_XY: 718020.69500 5090950.03300
SW_QUAD_CORNER_XY: 713175.91100 5090780.90700
SECONDARY_NW_QUAD_XY: 712942.53400 5097506.92500
SECONDARY_NE_QUAD_XY: 717782.00600 5097676.04400
SECONDARY_SE_QUAD_XY: 718027.26500 5090732.22000
SECONDARY_SW_QUAD_XY: 713182.33400 5090563.08900
RMSE_XY: 4.20000
IMAGE_SOURCE: BLACK AND WHITE FILM
SOURCE_IMAGE_ID: NAPP 8406 117
SOURCE_IMAGE_DATE: 1995 07 31
SOURCE_IMAGE_ID: NAPP 8407 159
SOURCE_IMAGE_DATE: 1995 08 19
SOURCE_IMAGE_ID: NAPP 8407 161
SOURCE_IMAGE_DATE: 1995 08 19
SOURCE_IMAGE_ID: NAPP 8406 116
SOURCE_IMAGE_DATE: 1995 07 31
SOURCE_DEM_DATE: 1997 00 00
AGENCY: WESTERN MAPPING CENTER (WMC)
PRODUCER: UNDEFINED
PRODUCTION_SYSTEM: GIS/MAGIC
COMPRESSION: UNDEFINED
STANDARD_VERSION: 1996 12
METADATA_DATE: 2000 04 20
DATA_FILE_SIZE: 44497824
BYTE_COUNT: 5758
