FILENAME: O4511407.NES.1068398.tif
QUADRANGLE_NAME: BURNT RIDGE
QUADRANT: NE
WEST_LONGITUDE: -114 11 15.00000
EAST_LONGITUDE: -114 7 30.00000
NORTH_LATITUDE: 46 0 0.00000
SOUTH_LATITUDE: 45 56 15.00000
PRODUCTION_DATE: 2000 3 8
RASTER_ORDER: LEFT_RIGHT/TOP_BOTTOM
BAND_ORGANIZATION: SINGLE FILE
BAND_CONTENT: BLACK&WHITE
BAND_CONTENT: UNDEFINED
BAND_CONTENT: UNDEFINED
BITS_PER_PIXEL: 8
SAMPLES_AND_LINES: 5764 7731
HORIZONTAL_DATUM: NAD83
HORIZONTAL_COORDINATE_SYSTEM: UTM
COORDINATE_ZONE: 11
HORIZONTAL_UNITS: METERS
HORIZONTAL_RESOLUTION: 1.00000
SECONDARY_HORIZONTAL_DATUM: NAD27
XY_ORIGIN: 717403.00000 5098367.00000
SECONDARY_XY_ORIGIN: 717480.50800 5098160.51100
NATION: US
NATION: "SCIENCE
STATE: MT
NW_QUAD_CORNER_XY: 717775.43500 5097893.89900
NE_QUAD_CORNER_XY: 722614.75200 5098066.81900
SE_QUAD_CORNERY_XY: 722865.47100 5091122.96600
SW_QUAD_CORNER_XY: 718020.69500 5090950.03300
SECONDARY_NW_QUAD_XY: 717782.00600 5097676.04400
SECONDARY_NE_QUAD_XY: 722621.46900 5097848.96900
SECONDARY_SE_QUAD_XY: 722872.18700 5090905.15800
SECONDARY_SW_QUAD_XY: 718027.26500 5090732.22000
RMSE_XY: 2.70000
IMAGE_SOURCE: BLACK AND WHITE FILM
SOURCE_IMAGE_ID: NAPP 8406 086
SOURCE_IMAGE_DATE: 1995 07 31
SOURCE_IMAGE_ID: NAPP 8406 085
SOURCE_IMAGE_DATE: 1995 07 31
SOURCE_DEM_DATE: 1997 00 00
AGENCY: WESTERN MAPPING CENTER (WMC)
PRODUCER: UNDEFINED
PRODUCTION_SYSTEM: GIS/MAGIC
COMPRESSION: UNDEFINED
STANDARD_VERSION: 1996 12
METADATA_DATE: 2000 04 20
DATA_FILE_SIZE: 44567248
BYTE_COUNT: 5764
