BEGIN_USGS_DOQ_HEADER *
QUADRANGLE_NAME "WATCHTOWER PEAK" *
QUADRANT SW *
WEST_LONGITUDE -114 37 30.000 *
EAST_LONGITUDE -114 33 45.000 *
NORTH_LATITUDE 45 48 45.000 *
SOUTH_LATITUDE 45 45 0.000 *
PRODUCTION_DATE 2003 4 1 *
RASTER_ORDER LEFT_RIGHT/TOP_BOTTOM *
BAND_ORGANIZATION "SINGLE FILE" *
BAND_CONTENT BLACK&WHITE *
BITS_PER_PIXEL 8 *
SAMPLES_AND_LINES 5740 7697 *
HORIZONTAL_DATUM NAD83 *
HORIZONTAL_COORDINATE_SYSTEM UTM *
COORDINATE_ZONE 11 *
HORIZONTAL_UNITS METERS *
HORIZONTAL_RESOLUTION 1.0 *
SECONDARY_HORIZONTAL_DATUM NAD27 *
XY_ORIGIN 684147.950 5076411.640 *
SECONDARY_XY_ORIGIN 684225.504 5076205.212 *
NATION US *
STATE ID *
STATE MT *
NW_QUAD_CORNER_XY 684520.504 5075958.364 *
NE_QUAD_CORNER_XY 689376.227 5076104.678 *
SE_QUAD_CORNER_XY 689588.066 5069160.931 *
SW_QUAD_CORNER_XY 684726.905 5069014.608 *
SECONDARY_NW_QUAD_XY 684526.051 5075740.606 *
SECONDARY_NE_QUAD_XY 689381.920 5075886.924 *
SECONDARY_SE_QUAD_XY 689593.758 5068943.222 *
SECONDARY_SW_QUAD_XY 684732.450 5068796.895 *
RMSE_XY 1.00 *
IMAGE_SOURCE "BLACK AND WHITE FILM" *
SOURCE_IMAGE_ID "NAPP 10652 256" *
SOURCE_IMAGE_DATE 1998 9 15 *
SOURCE_IMAGE_ID "NAPP 10652 257" *
SOURCE_IMAGE_DATE 1998 9 15 *
SOURCE_IMAGE_ID "NAPP 10652 255" *
SOURCE_IMAGE_DATE 1998 9 15 *
SOURCE_IMAGE_ID "NAPP 10654 29" *
SOURCE_IMAGE_DATE 1998 9 15 *
SOURCE_IMAGE_ID "NAPP 10654 30" *
SOURCE_IMAGE_DATE 1998 9 15 *
SOURCE_IMAGE_ID "NAPP 10654 31" *
SOURCE_IMAGE_DATE 1998 9 15 *
SOURCE_IMAGE_ID "NAPP 10652 192" *
SOURCE_IMAGE_DATE 1998 9 15 *
SOURCE_IMAGE_ID "NAPP 10652 193" *
SOURCE_IMAGE_DATE 1998 9 15 *
SOURCE_IMAGE_ID "NAPP 10652 194" *
SOURCE_IMAGE_DATE 1998 9 15 *
SOURCE_DEM_DATE 2003 1 1 *
AGENCY "WESTERN MAPPING CENTER (WMC)" *
PRODUCER "USDA FS GEOSPATIAL SERVICE AND TECHNOLOGY CENTER" *
PRODUCTION_SYSTEM "ORBIT OR_RECTIFY V.5.2" *
STANDARD_VERSION 1996 12 *
METADATA_DATE 2003 3 19 *
DATA_FILE_SIZE 44186520 *
BYTE_COUNT 5740 *
