BEGIN_USGS_DOQ_HEADER *
QUADRANGLE_NAME "WATCHTOWER PEAK" *
QUADRANT SE *
WEST_LONGITUDE -114 33 45.000 *
EAST_LONGITUDE -114 30 0.000 *
NORTH_LATITUDE 45 48 45.000 *
SOUTH_LATITUDE 45 45 0.000 *
PRODUCTION_DATE 2003 4 1 *
RASTER_ORDER LEFT_RIGHT/TOP_BOTTOM *
BAND_ORGANIZATION "SINGLE FILE" *
BAND_CONTENT BLACK&WHITE *
BITS_PER_PIXEL 8 *
SAMPLES_AND_LINES 5745 7701 *
HORIZONTAL_DATUM NAD83 *
HORIZONTAL_COORDINATE_SYSTEM UTM *
COORDINATE_ZONE 11 *
HORIZONTAL_UNITS METERS *
HORIZONTAL_RESOLUTION 1.0 *
SECONDARY_HORIZONTAL_DATUM NAD27 *
XY_ORIGIN 689003.830 5076561.680 *
SECONDARY_XY_ORIGIN 689081.364 5076355.282 *
NATION US *
STATE MT *
STATE ID *
NW_QUAD_CORNER_XY 689376.227 5076104.678 *
NE_QUAD_CORNER_XY 694231.945 5076254.797 *
SE_QUAD_CORNER_XY 694449.222 5069311.058 *
SW_QUAD_CORNER_XY 689588.066 5069160.931 *
SECONDARY_NW_QUAD_XY 689381.920 5075886.924 *
SECONDARY_NE_QUAD_XY 694237.784 5076037.048 *
SECONDARY_SE_QUAD_XY 694455.060 5069093.354 *
SECONDARY_SW_QUAD_XY 689593.758 5068943.222 *
RMSE_XY 1.00 *
IMAGE_SOURCE "BLACK AND WHITE FILM" *
SOURCE_IMAGE_ID "NAPP 10652 193" *
SOURCE_IMAGE_DATE 1998 9 15 *
SOURCE_IMAGE_ID "NAPP 10652 192" *
SOURCE_IMAGE_DATE 1998 9 15 *
SOURCE_IMAGE_ID "NAPP 10652 194" *
SOURCE_IMAGE_DATE 1998 9 15 *
SOURCE_IMAGE_ID "NAPP 10652 257" *
SOURCE_IMAGE_DATE 1998 9 15 *
SOURCE_IMAGE_ID "NAPP 10652 256" *
SOURCE_IMAGE_DATE 1998 9 15 *
SOURCE_IMAGE_ID "NAPP 10652 255" *
SOURCE_IMAGE_DATE 1998 9 15 *
SOURCE_IMAGE_ID "NAPP 10653 37" *
SOURCE_IMAGE_DATE 1998 9 15 *
SOURCE_IMAGE_ID "NAPP 10653 38" *
SOURCE_IMAGE_DATE 1998 9 15 *
SOURCE_IMAGE_ID "NAPP 10653 39" *
SOURCE_IMAGE_DATE 1998 9 15 *
SOURCE_DEM_DATE 2003 1 1 *
AGENCY "WESTERN MAPPING CENTER (WMC)" *
PRODUCER "USDA FS GEOSPATIAL SERVICE AND TECHNOLOGY CENTER" *
PRODUCTION_SYSTEM "ORBIT OR_RECTIFY V.5.2" *
STANDARD_VERSION 1996 12 *
METADATA_DATE 2003 3 19 *
DATA_FILE_SIZE 44247990 *
BYTE_COUNT 5745 *
