BEGIN_USGS_DOQ_HEADER *
QUADRANGLE_NAME "MOUNT JERUSALEM" *
QUADRANT SE *
WEST_LONGITUDE -114 26 15.000 *
EAST_LONGITUDE -114 22 30.000 *
NORTH_LATITUDE 45 48 45.000 *
SOUTH_LATITUDE 45 45 0.000 *
PRODUCTION_DATE 2003 4 1 *
RASTER_ORDER LEFT_RIGHT/TOP_BOTTOM *
BAND_ORGANIZATION "SINGLE FILE" *
BAND_CONTENT BLACK&WHITE *
BITS_PER_PIXEL 8 *
SAMPLES_AND_LINES 5756 7708 *
HORIZONTAL_DATUM NAD83 *
HORIZONTAL_COORDINATE_SYSTEM UTM *
COORDINATE_ZONE 11 *
HORIZONTAL_UNITS METERS *
HORIZONTAL_RESOLUTION 1.0 *
SECONDARY_HORIZONTAL_DATUM NAD27 *
XY_ORIGIN 698715.530 5076873.180 *
SECONDARY_XY_ORIGIN 698793.051 5076666.843 *
NATION US *
STATE MT *
NW_QUAD_CORNER_XY 699087.656 5076408.721 *
NE_QUAD_CORNER_XY 703943.360 5076566.451 *
SE_QUAD_CORNER_XY 704171.516 5069622.730 *
SW_QUAD_CORNER_XY 699310.372 5069464.991 *
SECONDARY_NW_QUAD_XY 699093.640 5076190.977 *
SECONDARY_NE_QUAD_XY 703949.491 5076348.711 *
SECONDARY_SE_QUAD_XY 704177.645 5069405.035 *
SECONDARY_SW_QUAD_XY 699316.355 5069247.292 *
RMSE_XY 1.00 *
IMAGE_SOURCE "BLACK AND WHITE FILM" *
SOURCE_IMAGE_ID "NAPP 10653 101" *
SOURCE_IMAGE_DATE 1998 9 15 *
SOURCE_IMAGE_ID "NAPP 10653 102" *
SOURCE_IMAGE_DATE 1998 9 15 *
SOURCE_IMAGE_ID "NAPP 10653 100" *
SOURCE_IMAGE_DATE 1998 9 15 *
SOURCE_IMAGE_ID "NAPP 10653 37" *
SOURCE_IMAGE_DATE 1998 9 15 *
SOURCE_IMAGE_ID "NAPP 10653 38" *
SOURCE_IMAGE_DATE 1998 9 15 *
SOURCE_IMAGE_ID "NAPP 10653 39" *
SOURCE_IMAGE_DATE 1998 9 15 *
SOURCE_DEM_DATE 2003 1 1 *
AGENCY "WESTERN MAPPING CENTER (WMC)" *
PRODUCER "USDA FS GEOSPATIAL SERVICE AND TECHNOLOGY CENTER" *
PRODUCTION_SYSTEM "ORBIT OR_RECTIFY V.5.2" *
STANDARD_VERSION 1996 12 *
METADATA_DATE 2003 3 19 *
DATA_FILE_SIZE 44373004 *
BYTE_COUNT 5756 *
