BEGIN_USGS_DOQ_HEADER *
QUADRANGLE_NAME "MOUNT JERUSALEM" *
QUADRANT NE *
WEST_LONGITUDE -114 26 15.000 *
EAST_LONGITUDE -114 22 30.000 *
NORTH_LATITUDE 45 52 30.000 *
SOUTH_LATITUDE 45 48 45.000 *
PRODUCTION_DATE 2003 4 1 *
RASTER_ORDER LEFT_RIGHT/TOP_BOTTOM *
BAND_ORGANIZATION "SINGLE FILE" *
BAND_CONTENT BLACK&WHITE *
BITS_PER_PIXEL 8 *
SAMPLES_AND_LINES 5751 7708 *
HORIZONTAL_DATUM NAD83 *
HORIZONTAL_COORDINATE_SYSTEM UTM *
COORDINATE_ZONE 11 *
HORIZONTAL_UNITS METERS *
HORIZONTAL_RESOLUTION 1.0 *
SECONDARY_HORIZONTAL_DATUM NAD27 *
XY_ORIGIN 698492.620 5083816.900 *
SECONDARY_XY_ORIGIN 698570.107 5083610.459 *
NATION US *
STATE MT *
STATE ID *
NW_QUAD_CORNER_XY 698864.701 5083352.512 *
NE_QUAD_CORNER_XY 703714.961 5083510.232 *
SE_QUAD_CORNER_XY 703943.360 5076566.451 *
SW_QUAD_CORNER_XY 699087.656 5076408.721 *
SECONDARY_NW_QUAD_XY 698870.687 5083134.723 *
SECONDARY_NE_QUAD_XY 703721.093 5083292.448 *
SECONDARY_SE_QUAD_XY 703949.491 5076348.711 *
SECONDARY_SW_QUAD_XY 699093.640 5076190.977 *
RMSE_XY 1.00 *
IMAGE_SOURCE "BLACK AND WHITE FILM" *
SOURCE_IMAGE_ID "NAPP 10653 99" *
SOURCE_IMAGE_DATE 1998 9 15 *
SOURCE_IMAGE_ID "NAPP 10653 100" *
SOURCE_IMAGE_DATE 1998 9 15 *
SOURCE_IMAGE_ID "NAPP 10653 98" *
SOURCE_IMAGE_DATE 1998 9 15 *
SOURCE_IMAGE_ID "NAPP 10653 39" *
SOURCE_IMAGE_DATE 1998 9 15 *
SOURCE_IMAGE_ID "NAPP 10653 40" *
SOURCE_IMAGE_DATE 1998 9 15 *
SOURCE_IMAGE_ID "NAPP 10653 41" *
SOURCE_IMAGE_DATE 1998 9 15 *
SOURCE_DEM_DATE 2003 1 1 *
AGENCY "WESTERN MAPPING CENTER (WMC)" *
PRODUCER "USDA FS GEOSPATIAL SERVICE AND TECHNOLOGY CENTER" *
PRODUCTION_SYSTEM "ORBIT OR_RECTIFY V.5.2" *
STANDARD_VERSION 1996 12 *
METADATA_DATE 2003 3 19 *
DATA_FILE_SIZE 44334459 *
BYTE_COUNT 5751 *
