FILENAME: O4511414.NES.1068302.tif
QUADRANGLE_NAME: BOULDER PEAK
QUADRANT: NE
WEST_LONGITUDE: -114 18 45.00000
EAST_LONGITUDE: -114 15 0.00000
NORTH_LATITUDE: 45 52 30.00000
SOUTH_LATITUDE: 45 48 45.00000
PRODUCTION_DATE: 2000 3 8
RASTER_ORDER: LEFT_RIGHT/TOP_BOTTOM
BAND_ORGANIZATION: SINGLE FILE
BAND_CONTENT: BLACK&WHITE
BAND_CONTENT: UNDEFINED
BAND_CONTENT: UNDEFINED
BITS_PER_PIXEL: 8
SAMPLES_AND_LINES: 5764 7724
HORIZONTAL_DATUM: NAD83
HORIZONTAL_COORDINATE_SYSTEM: UTM
COORDINATE_ZONE: 11
HORIZONTAL_UNITS: METERS
HORIZONTAL_RESOLUTION: 1.00000
SECONDARY_HORIZONTAL_DATUM: NAD27
XY_ORIGIN: 708192.00000 5084138.00000
SECONDARY_XY_ORIGIN: 708269.51500 5083931.62600
NATION: US
NATION: "SCIENCE
STATE: MT
NW_QUAD_CORNER_XY: 708565.21300 5083671.75700
NE_QUAD_CORNER_XY: 713415.45700 5083837.08800
SE_QUAD_CORNERY_XY: 713654.74900 5076893.32800
SW_QUAD_CORNER_XY: 708799.05800 5076727.98600
SECONDARY_NW_QUAD_XY: 708571.48900 5083453.97700
SECONDARY_NE_QUAD_XY: 713421.87900 5083619.31300
SECONDARY_SE_QUAD_XY: 713661.16900 5076675.59700
SECONDARY_SW_QUAD_XY: 708805.33300 5076510.25000
RMSE_XY: 3.30000
IMAGE_SOURCE: BLACK AND WHITE FILM
SOURCE_IMAGE_ID: NAPP 8407 157
SOURCE_IMAGE_DATE: 1995 08 19
SOURCE_IMAGE_ID: NAPP 8407 031
SOURCE_IMAGE_DATE: 1995 08 19
SOURCE_IMAGE_ID: NAPP 8407 032
SOURCE_IMAGE_DATE: 1995 08 19
SOURCE_IMAGE_ID: NAPP 8407 033
SOURCE_IMAGE_DATE: 1995 08 19
SOURCE_IMAGE_ID: NAPP 8407 155
SOURCE_IMAGE_DATE: 1995 08 19
SOURCE_DEM_DATE: 1997 00 00
AGENCY: WESTERN MAPPING CENTER (WMC)
PRODUCER: UNDEFINED
PRODUCTION_SYSTEM: GIS/MAGIC
COMPRESSION: UNDEFINED
STANDARD_VERSION: 1996 12
METADATA_DATE: 2000 04 20
DATA_FILE_SIZE: 44526900
BYTE_COUNT: 5764
