FILENAME: O4511415.SWS.1068322.tif
QUADRANGLE_NAME: PIQUETT CREEK
QUADRANT: SW
WEST_LONGITUDE: -114 15 0.00000
EAST_LONGITUDE: -114 11 15.00000
NORTH_LATITUDE: 45 48 45.00000
SOUTH_LATITUDE: 45 45 0.00000
PRODUCTION_DATE: 2000 3 7
RASTER_ORDER: LEFT_RIGHT/TOP_BOTTOM
BAND_ORGANIZATION: SINGLE FILE
BAND_CONTENT: BLACK&WHITE
BAND_CONTENT: UNDEFINED
BAND_CONTENT: UNDEFINED
BITS_PER_PIXEL: 8
SAMPLES_AND_LINES: 5774 7727
HORIZONTAL_DATUM: NAD83
HORIZONTAL_COORDINATE_SYSTEM: UTM
COORDINATE_ZONE: 11
HORIZONTAL_UNITS: METERS
HORIZONTAL_RESOLUTION: 1.00000
SECONDARY_HORIZONTAL_DATUM: NAD27
XY_ORIGIN: 713282.00000 5077363.00000
SECONDARY_XY_ORIGIN: 713359.54300 5077156.75400
NATION: US
NATION: "SCIENCE
STATE: MT
NW_QUAD_CORNER_XY: 713654.74900 5076893.32800
NE_QUAD_CORNER_XY: 718510.43300 5077062.47600
SE_QUAD_CORNERY_XY: 718754.91000 5070118.78400
SW_QUAD_CORNER_XY: 713893.78500 5069949.62600
SECONDARY_NW_QUAD_XY: 713661.16900 5076675.59700
SECONDARY_NE_QUAD_XY: 718516.99900 5076844.75000
SECONDARY_SE_QUAD_XY: 718761.47400 5069901.10300
SECONDARY_SW_QUAD_XY: 713900.20400 5069731.94000
RMSE_XY: 4.40000
IMAGE_SOURCE: BLACK AND WHITE FILM
SOURCE_IMAGE_ID: NAPP 8406 111
SOURCE_IMAGE_DATE: 1995 07 31
SOURCE_IMAGE_ID: NAPP 8407 155
SOURCE_IMAGE_DATE: 1995 08 19
SOURCE_IMAGE_ID: NAPP 8406 110
SOURCE_IMAGE_DATE: 1995 07 31
SOURCE_IMAGE_ID: NAPP 8406 112
SOURCE_IMAGE_DATE: 1995 07 31
SOURCE_DEM_DATE: 1997 00 00
AGENCY: WESTERN MAPPING CENTER (WMC)
PRODUCER: UNDEFINED
PRODUCTION_SYSTEM: GIS/MAGIC
COMPRESSION: UNDEFINED
STANDARD_VERSION: 1996 12
METADATA_DATE: 2000 04 20
DATA_FILE_SIZE: 44621472
BYTE_COUNT: 5774
