FILENAME: O4511416.SWS.1068752.tif
QUADRANGLE_NAME: MEDICINE HOT SPRINGS
QUADRANT: SW
WEST_LONGITUDE: -114 7 30.00000
EAST_LONGITUDE: -114 3 45.00000
NORTH_LATITUDE: 45 48 45.00000
SOUTH_LATITUDE: 45 45 0.00000
PRODUCTION_DATE: 2000 3 9
RASTER_ORDER: LEFT_RIGHT/TOP_BOTTOM
BAND_ORGANIZATION: SINGLE FILE
BAND_CONTENT: BLACK&WHITE
BAND_CONTENT: UNDEFINED
BAND_CONTENT: UNDEFINED
BITS_PER_PIXEL: 8
SAMPLES_AND_LINES: 5785 7735
HORIZONTAL_DATUM: NAD83
HORIZONTAL_COORDINATE_SYSTEM: UTM
COORDINATE_ZONE: 11
HORIZONTAL_UNITS: METERS
HORIZONTAL_RESOLUTION: 1.00000
SECONDARY_HORIZONTAL_DATUM: NAD27
XY_ORIGIN: 722994.00000 5077713.00000
SECONDARY_XY_ORIGIN: 723071.57900 5077506.79400
NATION: US
NATION: "SCIENCE
STATE: MT
NW_QUAD_CORNER_XY: 723366.10900 5077235.43100
NE_QUAD_CORNER_XY: 728221.77800 5077412.19400
SE_QUAD_CORNERY_XY: 728477.13900 5070468.52300
SW_QUAD_CORNER_XY: 723616.02700 5070291.75000
SECONDARY_NW_QUAD_XY: 723372.82100 5077017.71100
SECONDARY_NE_QUAD_XY: 728228.63600 5077194.47900
SECONDARY_SE_QUAD_XY: 728483.99500 5070250.85300
SECONDARY_SW_QUAD_XY: 723622.73800 5070074.07400
RMSE_XY: 3.40000
IMAGE_SOURCE: BLACK AND WHITE FILM
SOURCE_IMAGE_ID: NAPP 8406 237
SOURCE_IMAGE_DATE: 1995 07 31
SOURCE_IMAGE_ID: NAPP 8406 236
SOURCE_IMAGE_DATE: 1995 07 31
SOURCE_IMAGE_ID: NAPP 8406 238
SOURCE_IMAGE_DATE: 1995 07 31
SOURCE_DEM_DATE: 1997 00 00
AGENCY: WESTERN MAPPING CENTER (WMC)
PRODUCER: UNDEFINED
PRODUCTION_SYSTEM: GIS/MAGIC
COMPRESSION: UNDEFINED
STANDARD_VERSION: 1996 12
METADATA_DATE: 2000 04 20
DATA_FILE_SIZE: 44752760
BYTE_COUNT: 5785
