BEGIN_USGS_DOQ_HEADER *
QUADRANGLE_NAME "BARE CONE" *
QUADRANT NW *
WEST_LONGITUDE -114 30 0.000 *
EAST_LONGITUDE -114 26 15.000 *
NORTH_LATITUDE 45 45 0.000 *
SOUTH_LATITUDE 45 41 15.000 *
PRODUCTION_DATE 2003 3 25 *
RASTER_ORDER LEFT_RIGHT/TOP_BOTTOM *
BAND_ORGANIZATION "SINGLE FILE" *
BAND_CONTENT BLACK&WHITE *
BITS_PER_PIXEL 8 *
SAMPLES_AND_LINES 5756 7704 *
HORIZONTAL_DATUM NAD83 *
HORIZONTAL_COORDINATE_SYSTEM UTM *
COORDINATE_ZONE 11 *
HORIZONTAL_UNITS METERS *
HORIZONTAL_RESOLUTION 1.0 *
SECONDARY_HORIZONTAL_DATUM NAD27 *
XY_ORIGIN 694076.930 5069771.860 *
SECONDARY_XY_ORIGIN 694154.485 5069565.600 *
NATION US *
STATE MT *
STATE ID *
NW_QUAD_CORNER_XY 694449.222 5069311.058 *
NE_QUAD_CORNER_XY 699310.372 5069464.991 *
SE_QUAD_CORNER_XY 699532.850 5062521.323 *
SW_QUAD_CORNER_XY 694666.267 5062367.382 *
SECONDARY_NW_QUAD_XY 694455.060 5069093.354 *
SECONDARY_NE_QUAD_XY 699316.355 5069247.292 *
SECONDARY_SE_QUAD_XY 699538.832 5062303.669 *
SECONDARY_SW_QUAD_XY 694672.103 5062149.723 *
RMSE_XY 1.00 *
IMAGE_SOURCE "BLACK AND WHITE FILM" *
SOURCE_IMAGE_ID "NAPP 10653 36" *
SOURCE_IMAGE_DATE 1998 9 15 *
SOURCE_IMAGE_ID "NAPP 10653 35" *
SOURCE_IMAGE_DATE 1998 9 15 *
SOURCE_IMAGE_ID "NAPP 10653 37" *
SOURCE_IMAGE_DATE 1998 9 15 *
SOURCE_IMAGE_ID "NAPP 10652 190" *
SOURCE_IMAGE_DATE 1998 9 15 *
SOURCE_IMAGE_ID "NAPP 10652 191" *
SOURCE_IMAGE_DATE 1998 9 15 *
SOURCE_IMAGE_ID "NAPP 10652 192" *
SOURCE_IMAGE_DATE 1998 9 15 *
SOURCE_IMAGE_ID "NAPP 10653 104" *
SOURCE_IMAGE_DATE 1998 9 15 *
SOURCE_IMAGE_ID "NAPP 10653 103" *
SOURCE_IMAGE_DATE 1998 9 15 *
SOURCE_IMAGE_ID "NAPP 10653 102" *
SOURCE_IMAGE_DATE 1998 9 15 *
SOURCE_DEM_DATE 2003 1 1 *
AGENCY "WESTERN MAPPING CENTER (WMC)" *
PRODUCER "USDA FS GEOSPATIAL SERVICE AND TECHNOLOGY CENTER" *
PRODUCTION_SYSTEM "ORBIT OR_RECTIFY V.5.2" *
STANDARD_VERSION 1996 12 *
METADATA_DATE 2003 3 19 *
DATA_FILE_SIZE 44349980 *
BYTE_COUNT 5756 *
