BEGIN_USGS_DOQ_HEADER *
QUADRANGLE_NAME "BARE CONE" *
QUADRANT NE *
WEST_LONGITUDE -114 26 15.000 *
EAST_LONGITUDE -114 22 30.000 *
NORTH_LATITUDE 45 45 0.000 *
SOUTH_LATITUDE 45 41 15.000 *
PRODUCTION_DATE 2003 3 25 *
RASTER_ORDER LEFT_RIGHT/TOP_BOTTOM *
BAND_ORGANIZATION "SINGLE FILE" *
BAND_CONTENT BLACK&WHITE *
BITS_PER_PIXEL 8 *
SAMPLES_AND_LINES 5761 7708 *
HORIZONTAL_DATUM NAD83 *
HORIZONTAL_COORDINATE_SYSTEM UTM *
COORDINATE_ZONE 11 *
HORIZONTAL_UNITS METERS *
HORIZONTAL_RESOLUTION 1.0 *
SECONDARY_HORIZONTAL_DATUM NAD27 *
XY_ORIGIN 698938.210 5069929.520 *
SECONDARY_XY_ORIGIN 699015.765 5069723.288 *
NATION US *
STATE MT *
NW_QUAD_CORNER_XY 699310.372 5069464.991 *
NE_QUAD_CORNER_XY 704171.516 5069622.730 *
SE_QUAD_CORNER_XY 704399.427 5062679.070 *
SW_QUAD_CORNER_XY 699532.850 5062521.323 *
SECONDARY_NW_QUAD_XY 699316.355 5069247.292 *
SECONDARY_NE_QUAD_XY 704177.645 5069405.035 *
SECONDARY_SE_QUAD_XY 704405.555 5062461.421 *
SECONDARY_SW_QUAD_XY 699538.832 5062303.669 *
RMSE_XY 1.00 *
IMAGE_SOURCE "BLACK AND WHITE FILM" *
SOURCE_IMAGE_ID "NAPP 10653 103" *
SOURCE_IMAGE_DATE 1998 9 15 *
SOURCE_IMAGE_ID "NAPP 10653 104" *
SOURCE_IMAGE_DATE 1998 9 15 *
SOURCE_IMAGE_ID "NAPP 10653 102" *
SOURCE_IMAGE_DATE 1998 9 15 *
SOURCE_IMAGE_ID "NAPP 10653 35" *
SOURCE_IMAGE_DATE 1998 9 15 *
SOURCE_IMAGE_ID "NAPP 10653 36" *
SOURCE_IMAGE_DATE 1998 9 15 *
SOURCE_IMAGE_ID "NAPP 10653 37" *
SOURCE_IMAGE_DATE 1998 9 15 *
SOURCE_DEM_DATE 2003 1 1 *
AGENCY "WESTERN MAPPING CENTER (WMC)" *
PRODUCER "USDA FS GEOSPATIAL SERVICE AND TECHNOLOGY CENTER" *
PRODUCTION_SYSTEM "ORBIT OR_RECTIFY V.5.2" *
STANDARD_VERSION 1996 12 *
METADATA_DATE 2003 3 19 *
DATA_FILE_SIZE 44411549 *
BYTE_COUNT 5761 *
