FILENAME: O4511422.NES.1068310.tif
QUADRANGLE_NAME: PAINTED ROCKS LAKE
QUADRANT: NE
WEST_LONGITUDE: -114 18 45.00000
EAST_LONGITUDE: -114 15 0.00000
NORTH_LATITUDE: 45 45 0.00000
SOUTH_LATITUDE: 45 41 15.00000
PRODUCTION_DATE: 2000 3 13
RASTER_ORDER: LEFT_RIGHT/TOP_BOTTOM
BAND_ORGANIZATION: SINGLE FILE
BAND_CONTENT: BLACK&WHITE
BAND_CONTENT: UNDEFINED
BAND_CONTENT: UNDEFINED
BITS_PER_PIXEL: 8
SAMPLES_AND_LINES: 5774 7723
HORIZONTAL_DATUM: NAD83
HORIZONTAL_COORDINATE_SYSTEM: UTM
COORDINATE_ZONE: 11
HORIZONTAL_UNITS: METERS
HORIZONTAL_RESOLUTION: 1.00000
SECONDARY_HORIZONTAL_DATUM: NAD27
XY_ORIGIN: 708660.00000 5070250.00000
SECONDARY_XY_ORIGIN: 708737.55800 5070043.82200
NATION: US
NATION: "SCIENCE
STATE: MT
NW_QUAD_CORNER_XY: 709032.65400 5069784.27500
NE_QUAD_CORNER_XY: 713893.78500 5069949.62600
SE_QUAD_CORNERY_XY: 714132.56500 5063005.98300
SW_QUAD_CORNER_XY: 709265.99900 5062840.62300
SECONDARY_NW_QUAD_XY: 709038.92700 5069566.58400
SECONDARY_NE_QUAD_XY: 713900.20400 5069731.94000
SECONDARY_SE_QUAD_XY: 714138.98200 5062788.34300
SECONDARY_SW_QUAD_XY: 709272.27000 5062622.97800
RMSE_XY: 2.00000
IMAGE_SOURCE: BLACK AND WHITE FILM
SOURCE_IMAGE_ID: NAPP 8407 152
SOURCE_IMAGE_DATE: 1995 08 19
SOURCE_IMAGE_ID: NAPP 8407 151
SOURCE_IMAGE_DATE: 1995 08 19
SOURCE_IMAGE_ID: NAPP 8407 153
SOURCE_IMAGE_DATE: 1995 08 19
SOURCE_DEM_DATE: 1993 00 00
AGENCY: WESTERN MAPPING CENTER (WMC)
PRODUCER: UNDEFINED
PRODUCTION_SYSTEM: GIS/MAGIC
COMPRESSION: UNDEFINED
STANDARD_VERSION: 1996 12
METADATA_DATE: 2000 04 20
DATA_FILE_SIZE: 44598376
BYTE_COUNT: 5774
