FILENAME: O4511423.SWS.1069707.tif
QUADRANGLE_NAME: PIQUETT MOUNTAIN
QUADRANT: SW
WEST_LONGITUDE: -114 15 0.00000
EAST_LONGITUDE: -114 11 15.00000
NORTH_LATITUDE: 45 41 15.00000
SOUTH_LATITUDE: 45 37 30.00000
PRODUCTION_DATE: 2000 3 6
RASTER_ORDER: LEFT_RIGHT/TOP_BOTTOM
BAND_ORGANIZATION: SINGLE FILE
BAND_CONTENT: BLACK&WHITE
BAND_CONTENT: UNDEFINED
BAND_CONTENT: UNDEFINED
BITS_PER_PIXEL: 8
SAMPLES_AND_LINES: 5785 7728
HORIZONTAL_DATUM: NAD83
HORIZONTAL_COORDINATE_SYSTEM: UTM
COORDINATE_ZONE: 11
HORIZONTAL_UNITS: METERS
HORIZONTAL_RESOLUTION: 1.00000
SECONDARY_HORIZONTAL_DATUM: NAD27
XY_ORIGIN: 713760.00000 5063476.00000
SECONDARY_XY_ORIGIN: 713837.59600 5063269.93200
NATION: US
NATION: "SCIENCE
STATE: MT
NW_QUAD_CORNER_XY: 714132.56500 5063005.98300
NE_QUAD_CORNER_XY: 718999.12500 5063175.15100
SE_QUAD_CORNERY_XY: 719243.07800 5056231.57500
SW_QUAD_CORNER_XY: 714371.08900 5056062.39900
SECONDARY_NW_QUAD_XY: 714138.98200 5062788.34300
SECONDARY_NE_QUAD_XY: 719005.68800 5062957.51500
SECONDARY_SE_QUAD_XY: 719249.64000 5056013.98600
SECONDARY_SW_QUAD_XY: 714377.50400 5055844.80500
RMSE_XY: 1.40000
IMAGE_SOURCE: BLACK AND WHITE FILM
SOURCE_IMAGE_ID: NAPP 8406 107
SOURCE_IMAGE_DATE: 1995 07 31
SOURCE_IMAGE_ID: NAPP 8406 106
SOURCE_IMAGE_DATE: 1995 07 31
SOURCE_IMAGE_ID: NAPP 8406 108
SOURCE_IMAGE_DATE: 1995 07 31
SOURCE_DEM_DATE: 1993 00 00
AGENCY: WESTERN MAPPING CENTER (WMC)
PRODUCER: UNDEFINED
PRODUCTION_SYSTEM: GIS/MAGIC
COMPRESSION: UNDEFINED
STANDARD_VERSION: 1996 12
METADATA_DATE: 2000 04 25
DATA_FILE_SIZE: 44712265
BYTE_COUNT: 5785
