FILENAME: O4511424.SES.1069723.tif
QUADRANGLE_NAME: OVERWHICH FALLS
QUADRANT: SE
WEST_LONGITUDE: -114 3 45.00000
EAST_LONGITUDE: -114 0 0.00000
NORTH_LATITUDE: 45 41 15.00000
SOUTH_LATITUDE: 45 37 30.00000
PRODUCTION_DATE: 2000 3 7
RASTER_ORDER: LEFT_RIGHT/TOP_BOTTOM
BAND_ORGANIZATION: SINGLE FILE
BAND_CONTENT: BLACK&WHITE
BAND_CONTENT: UNDEFINED
BAND_CONTENT: UNDEFINED
BITS_PER_PIXEL: 8
SAMPLES_AND_LINES: 5801 7739
HORIZONTAL_DATUM: NAD83
HORIZONTAL_COORDINATE_SYSTEM: UTM
COORDINATE_ZONE: 11
HORIZONTAL_UNITS: METERS
HORIZONTAL_RESOLUTION: 1.00000
SECONDARY_HORIZONTAL_DATUM: NAD27
XY_ORIGIN: 728360.00000 5064006.00000
SECONDARY_XY_ORIGIN: 728437.64400 5063799.96500
NATION: US
NATION: "SCIENCE
STATE: MT
STATE: ID
NW_QUAD_CORNER_XY: 728732.22600 5063524.90800
NE_QUAD_CORNER_XY: 733598.76700 5063705.49900
SE_QUAD_CORNERY_XY: 733859.01100 5056761.95000
SW_QUAD_CORNER_XY: 728987.03900 5056581.35000
SECONDARY_NW_QUAD_XY: 728739.08100 5063307.28300
SECONDARY_NE_QUAD_XY: 733605.76800 5063487.88000
SECONDARY_SE_QUAD_XY: 733866.01100 5056544.37700
SECONDARY_SW_QUAD_XY: 728993.89300 5056363.77100
RMSE_XY: 2.70000
IMAGE_SOURCE: BLACK AND WHITE FILM
SOURCE_IMAGE_ID: NAPP 8406 264
SOURCE_IMAGE_DATE: 1995 07 31
SOURCE_IMAGE_ID: NAPP 8406 265
SOURCE_IMAGE_DATE: 1995 07 31
SOURCE_IMAGE_ID: NAPP 8406 263
SOURCE_IMAGE_DATE: 1995 07 31
SOURCE_DEM_DATE: 1991 00 00
AGENCY: WESTERN MAPPING CENTER (WMC)
PRODUCER: UNDEFINED
PRODUCTION_SYSTEM: GIS/MAGIC
COMPRESSION: UNDEFINED
STANDARD_VERSION: 1996 12
METADATA_DATE: 2000 04 25
DATA_FILE_SIZE: 44899740
BYTE_COUNT: 5801
