BEGIN_USGS_DOQ_HEADER *
QUADRANGLE_NAME "BLUE JOINT" *
QUADRANT NW *
WEST_LONGITUDE -114 37 30.000 *
EAST_LONGITUDE -114 33 45.000 *
NORTH_LATITUDE 45 37 30.000 *
SOUTH_LATITUDE 45 33 45.000 *
PRODUCTION_DATE 2002 10 16 *
RASTER_ORDER LEFT_RIGHT/TOP_BOTTOM *
BAND_ORGANIZATION "SINGLE FILE" *
BAND_CONTENT BLACK&WHITE *
BITS_PER_PIXEL 8 *
SAMPLES_AND_LINES 5755 7701 *
HORIZONTAL_DATUM NAD83 *
HORIZONTAL_COORDINATE_SYSTEM UTM *
COORDINATE_ZONE 11 *
HORIZONTAL_UNITS METERS *
HORIZONTAL_RESOLUTION 1.0 *
SECONDARY_HORIZONTAL_DATUM NAD27 *
XY_ORIGIN 684766.888 5055573.624 *
SECONDARY_XY_ORIGIN 684844.584 5055367.472 *
NATION US *
STATE ID *
STATE MT *
NW_QUAD_CORNER_XY 685139.044 5055127.287 *
NE_QUAD_CORNER_XY 690011.064 5055273.624 *
SE_QUAD_CORNER_XY 690222.221 5048330.064 *
SW_QUAD_CORNER_XY 685344.781 5048183.720 *
SECONDARY_NW_QUAD_XY 685144.586 5054909.665 *
SECONDARY_NE_QUAD_XY 690016.752 5055056.007 *
SECONDARY_SE_QUAD_XY 690227.908 5048112.494 *
SECONDARY_SW_QUAD_XY 685350.322 5047966.146 *
RMSE_XY 2.03 *
IMAGE_SOURCE "BLACK AND WHITE FILM" *
SOURCE_IMAGE_ID "NAPP 10652 262" *
SOURCE_IMAGE_DATE 1998 9 15 *
SOURCE_IMAGE_ID "NAPP 10652 263" *
SOURCE_IMAGE_DATE 1998 9 15 *
SOURCE_IMAGE_ID "NAPP 10652 261" *
SOURCE_IMAGE_DATE 1998 9 15 *
SOURCE_IMAGE_ID "NAPP 10654 23" *
SOURCE_IMAGE_DATE 1998 9 15 *
SOURCE_IMAGE_ID "NAPP 10654 24" *
SOURCE_IMAGE_DATE 1998 9 15 *
SOURCE_IMAGE_ID "NAPP 10654 25" *
SOURCE_IMAGE_DATE 1998 9 15 *
SOURCE_IMAGE_ID "NAPP 10652 186" *
SOURCE_IMAGE_DATE 1998 9 15 *
SOURCE_IMAGE_ID "NAPP 10652 187" *
SOURCE_IMAGE_DATE 1998 9 15 *
SOURCE_IMAGE_ID "NAPP 10652 188" *
SOURCE_IMAGE_DATE 1998 9 15 *
SOURCE_DEM_DATE 2002 1 1 *
AGENCY "WESTERN MAPPING CENTER (WMC)" *
PRODUCER "USDA FS GEOSPATIAL SERVICE AND TECHNOLOGY CENTER" *
PRODUCTION_SYSTEM "ORBIT OR_RECTIFY V.5.2" *
STANDARD_VERSION 1996 12 *
METADATA_DATE 2002 11 13 *
DATA_FILE_SIZE 44325010 *
BYTE_COUNT 5755 *
