BEGIN_USGS_DOQ_HEADER *
QUADRANGLE_NAME "HORSE CREEK PASS" *
QUADRANT SW *
WEST_LONGITUDE -114 30 0.000 *
EAST_LONGITUDE -114 26 15.000 *
NORTH_LATITUDE 45 33 45.000 *
SOUTH_LATITUDE 45 30 0.000 *
PRODUCTION_DATE 2002 10 16 *
RASTER_ORDER LEFT_RIGHT/TOP_BOTTOM *
BAND_ORGANIZATION "SINGLE FILE" *
BAND_CONTENT BLACK&WHITE *
BITS_PER_PIXEL 8 *
SAMPLES_AND_LINES 5771 7709 *
HORIZONTAL_DATUM NAD83 *
HORIZONTAL_COORDINATE_SYSTEM UTM *
COORDINATE_ZONE 11 *
HORIZONTAL_UNITS METERS *
HORIZONTAL_RESOLUTION 1.0 *
SECONDARY_HORIZONTAL_DATUM NAD27 *
XY_ORIGIN 694727.765 5048934.169 *
SECONDARY_XY_ORIGIN 694805.488 5048728.193 *
NATION US *
STATE ID *
STATE MT *
NW_QUAD_CORNER_XY 695099.657 5048480.213 *
NE_QUAD_CORNER_XY 699977.089 5048634.169 *
SE_QUAD_CORNER_XY 700198.850 5041690.683 *
SW_QUAD_CORNER_XY 695316.002 5041536.722 *
SECONDARY_NW_QUAD_XY 695105.490 5048262.648 *
SECONDARY_NE_QUAD_XY 699983.068 5048416.609 *
SECONDARY_SE_QUAD_XY 700204.827 5041473.172 *
SECONDARY_SW_QUAD_XY 695321.834 5041319.205 *
RMSE_XY 2.03 *
IMAGE_SOURCE "BLACK AND WHITE FILM" *
SOURCE_IMAGE_ID "NAPP 10653 30" *
SOURCE_IMAGE_DATE 1998 9 15 *
SOURCE_IMAGE_ID "NAPP 10653 29" *
SOURCE_IMAGE_DATE 1998 9 15 *
SOURCE_IMAGE_ID "NAPP 10653 31" *
SOURCE_IMAGE_DATE 1998 9 15 *
SOURCE_IMAGE_ID "NAPP 10652 184" *
SOURCE_IMAGE_DATE 1998 9 15 *
SOURCE_IMAGE_ID "NAPP 10652 185" *
SOURCE_IMAGE_DATE 1998 9 15 *
SOURCE_IMAGE_ID "NAPP 10652 186" *
SOURCE_IMAGE_DATE 1998 9 15 *
SOURCE_IMAGE_ID "NAPP 10653 110" *
SOURCE_IMAGE_DATE 1998 9 15 *
SOURCE_IMAGE_ID "NAPP 10653 109" *
SOURCE_IMAGE_DATE 1998 9 15 *
SOURCE_IMAGE_ID "NAPP 10653 108" *
SOURCE_IMAGE_DATE 1998 9 15 *
SOURCE_DEM_DATE 2002 1 1 *
AGENCY "WESTERN MAPPING CENTER (WMC)" *
PRODUCER "USDA FS GEOSPATIAL SERVICE AND TECHNOLOGY CENTER" *
PRODUCTION_SYSTEM "ORBIT OR_RECTIFY V.5.2" *
STANDARD_VERSION 1996 12 *
METADATA_DATE 2002 11 13 *
DATA_FILE_SIZE 44494410 *
BYTE_COUNT 5771 *
