FILENAME: O4511430.NWS.1068317.tif
QUADRANGLE_NAME: ALTA
QUADRANT: NW
WEST_LONGITUDE: -114 22 30.00000
EAST_LONGITUDE: -114 18 45.00000
NORTH_LATITUDE: 45 37 30.00000
SOUTH_LATITUDE: 45 33 45.00000
PRODUCTION_DATE: 2000 3 13
RASTER_ORDER: LEFT_RIGHT/TOP_BOTTOM
BAND_ORGANIZATION: SINGLE FILE
BAND_CONTENT: BLACK&WHITE
BAND_CONTENT: UNDEFINED
BAND_CONTENT: UNDEFINED
BITS_PER_PIXEL: 8
SAMPLES_AND_LINES: 5779 7720
HORIZONTAL_DATUM: NAD83
HORIZONTAL_COORDINATE_SYSTEM: UTM
COORDINATE_ZONE: 11
HORIZONTAL_UNITS: METERS
HORIZONTAL_RESOLUTION: 1.00000
SECONDARY_HORIZONTAL_DATUM: NAD27
XY_ORIGIN: 704254.00000 5056198.00000
SECONDARY_XY_ORIGIN: 704331.65000 5055991.97200
NATION: US
NATION: "SCIENCE
STATE: MT
NW_QUAD_CORNER_XY: 704627.09400 5055735.47000
NE_QUAD_CORNER_XY: 709499.09400 5055897.03100
SE_QUAD_CORNERY_XY: 709731.93800 5048953.49900
SW_QUAD_CORNER_XY: 704854.51600 5048791.93000
SECONDARY_NW_QUAD_XY: 704633.21800 5055517.86600
SECONDARY_NE_QUAD_XY: 709505.36400 5055679.43200
SECONDARY_SE_QUAD_XY: 709738.20700 5048735.94700
SECONDARY_SW_QUAD_XY: 704860.63800 5048574.37400
RMSE_XY: 2.00000
IMAGE_SOURCE: BLACK AND WHITE FILM
SOURCE_IMAGE_ID: NAPP 8407 024
SOURCE_IMAGE_DATE: 1995 08 19
SOURCE_IMAGE_ID: NAPP 8407 025
SOURCE_IMAGE_DATE: 1995 08 19
SOURCE_DEM_DATE: 1985 00 00
AGENCY: WESTERN MAPPING CENTER (WMC)
PRODUCER: UNDEFINED
PRODUCTION_SYSTEM: GIS/MAGIC
COMPRESSION: UNDEFINED
STANDARD_VERSION: 1996 12
METADATA_DATE: 2000 04 20
DATA_FILE_SIZE: 44619659
BYTE_COUNT: 5779
