FILENAME: O4511301.SES.1074753.tif
QUADRANGLE_NAME: FRENCH BASIN
QUADRANT: SE
WEST_LONGITUDE: -113 56 15.00000
EAST_LONGITUDE: -113 52 30.00000
NORTH_LATITUDE: 45 56 15.00000
SOUTH_LATITUDE: 45 52 30.00000
PRODUCTION_DATE: 2000 3 10
RASTER_ORDER: LEFT_RIGHT/TOP_BOTTOM
BAND_ORGANIZATION: SINGLE FILE
BAND_CONTENT: BLACK&WHITE
BAND_CONTENT: UNDEFINED
BAND_CONTENT: UNDEFINED
BITS_PER_PIXEL: 8
SAMPLES_AND_LINES: 5775 7730
HORIZONTAL_DATUM: NAD83
HORIZONTAL_COORDINATE_SYSTEM: UTM
COORDINATE_ZONE: 12
HORIZONTAL_UNITS: METERS
HORIZONTAL_RESOLUTION: 1.00000
SECONDARY_HORIZONTAL_DATUM: NAD27
XY_ORIGIN: 271661.00000 5091600.00000
SECONDARY_XY_ORIGIN: 271725.24200 5091388.37700
NATION: US
NATION: "SCIENCE
STATE: MT
NW_QUAD_CORNER_XY: 272289.76200 5091299.70600
NE_QUAD_CORNER_XY: 277134.52900 5091122.96600
SE_QUAD_CORNERY_XY: 276884.07600 5084179.17000
SW_QUAD_CORNER_XY: 272033.85500 5084355.92200
SECONDARY_NW_QUAD_XY: 272282.90000 5091081.90300
SECONDARY_NE_QUAD_XY: 277127.81300 5090905.15800
SECONDARY_SE_QUAD_XY: 276877.36300 5083961.40500
SECONDARY_SW_QUAD_XY: 272026.99500 5084138.16200
RMSE_XY: 1.80000
IMAGE_SOURCE: BLACK AND WHITE FILM
SOURCE_IMAGE_ID: NAPP 8389 089
SOURCE_IMAGE_DATE: 1995 07 31
SOURCE_IMAGE_ID: NAPP 8389 015
SOURCE_IMAGE_DATE: 1995 07 31
SOURCE_IMAGE_ID: NAPP 8389 090
SOURCE_IMAGE_DATE: 1995 07 31
SOURCE_IMAGE_ID: NAPP 8389 088
SOURCE_IMAGE_DATE: 1995 07 31
SOURCE_DEM_DATE: 1997 00 00
AGENCY: WESTERN MAPPING CENTER (WMC)
PRODUCER: UNDEFINED
PRODUCTION_SYSTEM: GIS/MAGIC
COMPRESSION: UNDEFINED
STANDARD_VERSION: 1996 12
METADATA_DATE: 2000 05 20
DATA_FILE_SIZE: 44646525
BYTE_COUNT: 5775
