FILENAME: O4511301.NES.1074751.tif
QUADRANGLE_NAME: FRENCH BASIN
QUADRANT: NE
WEST_LONGITUDE: -113 56 15.00000
EAST_LONGITUDE: -113 52 30.00000
NORTH_LATITUDE: 46 0 0.00000
SOUTH_LATITUDE: 45 56 15.00000
PRODUCTION_DATE: 2000 3 13
RASTER_ORDER: LEFT_RIGHT/TOP_BOTTOM
BAND_ORGANIZATION: SINGLE FILE
BAND_CONTENT: BLACK&WHITE
BAND_CONTENT: UNDEFINED
BAND_CONTENT: UNDEFINED
BITS_PER_PIXEL: 8
SAMPLES_AND_LINES: 5770 7730
HORIZONTAL_DATUM: NAD83
HORIZONTAL_COORDINATE_SYSTEM: UTM
COORDINATE_ZONE: 12
HORIZONTAL_UNITS: METERS
HORIZONTAL_RESOLUTION: 1.00000
SECONDARY_HORIZONTAL_DATUM: NAD27
XY_ORIGIN: 271917.00000 5098544.00000
SECONDARY_XY_ORIGIN: 271981.21600 5098332.30800
NATION: US
NATION: "SCIENCE
STATE: MT
NW_QUAD_CORNER_XY: 272545.94000 5098243.54600
NE_QUAD_CORNER_XY: 277385.24800 5098066.81900
SE_QUAD_CORNERY_XY: 277134.52900 5091122.96600
SW_QUAD_CORNER_XY: 272289.76200 5091299.70600
SECONDARY_NW_QUAD_XY: 272539.07700 5098025.70100
SECONDARY_NE_QUAD_XY: 277378.53100 5097848.96900
SECONDARY_SE_QUAD_XY: 277127.81300 5090905.15800
SECONDARY_SW_QUAD_XY: 272282.90000 5091081.90300
RMSE_XY: 1.80000
IMAGE_SOURCE: BLACK AND WHITE FILM
SOURCE_IMAGE_ID: NAPP 8393 033
SOURCE_IMAGE_DATE: 1995 08 19
SOURCE_IMAGE_ID: NAPP 8389 015
SOURCE_IMAGE_DATE: 1995 07 31
SOURCE_IMAGE_ID: NAPP 8389 017
SOURCE_IMAGE_DATE: 1995 07 31
SOURCE_IMAGE_ID: NAPP 8389 088
SOURCE_IMAGE_DATE: 1995 07 31
SOURCE_IMAGE_ID: NAPP 8389 086
SOURCE_IMAGE_DATE: 1995 07 31
SOURCE_DEM_DATE: 1997 00 00
AGENCY: WESTERN MAPPING CENTER (WMC)
PRODUCER: UNDEFINED
PRODUCTION_SYSTEM: GIS/MAGIC
COMPRESSION: UNDEFINED
STANDARD_VERSION: 1996 12
METADATA_DATE: 2000 05 20
DATA_FILE_SIZE: 44607870
BYTE_COUNT: 5770
