FILENAME: O4511302.NES.1074775.tif
QUADRANGLE_NAME: JENNINGS CAMP CREEK
QUADRANT: NE
WEST_LONGITUDE: -113 48 45.00000
EAST_LONGITUDE: -113 45 0.00000
NORTH_LATITUDE: 46 0 0.00000
SOUTH_LATITUDE: 45 56 15.00000
PRODUCTION_DATE: 2000 3 13
RASTER_ORDER: LEFT_RIGHT/TOP_BOTTOM
BAND_ORGANIZATION: SINGLE FILE
BAND_CONTENT: BLACK&WHITE
BAND_CONTENT: UNDEFINED
BAND_CONTENT: UNDEFINED
BITS_PER_PIXEL: 8
SAMPLES_AND_LINES: 5758 7722
HORIZONTAL_DATUM: NAD83
HORIZONTAL_COORDINATE_SYSTEM: UTM
COORDINATE_ZONE: 12
HORIZONTAL_UNITS: METERS
HORIZONTAL_RESOLUTION: 1.00000
SECONDARY_HORIZONTAL_DATUM: NAD27
XY_ORIGIN: 281607.00000 5098194.00000
SECONDARY_XY_ORIGIN: 281671.25400 5097982.37100
NATION: US
NATION: "SCIENCE
STATE: MT
NW_QUAD_CORNER_XY: 282224.56500 5097893.89900
NE_QUAD_CORNER_XY: 287063.89100 5097724.78500
SE_QUAD_CORNERY_XY: 286824.08900 5090780.90700
SW_QUAD_CORNER_XY: 281979.30500 5090950.03300
SECONDARY_NW_QUAD_XY: 282217.99400 5097676.04400
SECONDARY_NE_QUAD_XY: 287057.46600 5097506.92500
SECONDARY_SE_QUAD_XY: 286817.66600 5090563.08900
SECONDARY_SW_QUAD_XY: 281972.73500 5090732.22000
RMSE_XY: 1.70000
IMAGE_SOURCE: BLACK AND WHITE FILM
SOURCE_IMAGE_ID: NAPP 8389 185
SOURCE_IMAGE_DATE: 1995 07 31
SOURCE_IMAGE_ID: NAPP 8389 187
SOURCE_IMAGE_DATE: 1995 07 31
SOURCE_IMAGE_ID: NAPP 8389 186
SOURCE_IMAGE_DATE: 1995 07 31
SOURCE_IMAGE_ID: NAPP 8389 184
SOURCE_IMAGE_DATE: 1995 07 31
SOURCE_DEM_DATE: 1965 00 00
AGENCY: WESTERN MAPPING CENTER (WMC)
PRODUCER: UNDEFINED
PRODUCTION_SYSTEM: GIS/MAGIC
COMPRESSION: UNDEFINED
STANDARD_VERSION: 1996 12
METADATA_DATE: 2000 05 20
DATA_FILE_SIZE: 44469034
BYTE_COUNT: 5758
