FILENAME: O4511303.NES.1074787.tif
QUADRANGLE_NAME: LICK CREEK
QUADRANT: NE
WEST_LONGITUDE: -113 41 15.00000
EAST_LONGITUDE: -113 37 30.00000
NORTH_LATITUDE: 46 0 0.00000
SOUTH_LATITUDE: 45 56 15.00000
PRODUCTION_DATE: 2000 3 15
RASTER_ORDER: LEFT_RIGHT/TOP_BOTTOM
BAND_ORGANIZATION: SINGLE FILE
BAND_CONTENT: BLACK&WHITE
BAND_CONTENT: UNDEFINED
BAND_CONTENT: UNDEFINED
BITS_PER_PIXEL: 8
SAMPLES_AND_LINES: 5747 7715
HORIZONTAL_DATUM: NAD83
HORIZONTAL_COORDINATE_SYSTEM: UTM
COORDINATE_ZONE: 12
HORIZONTAL_UNITS: METERS
HORIZONTAL_RESOLUTION: 1.00000
SECONDARY_HORIZONTAL_DATUM: NAD27
XY_ORIGIN: 291297.00000 5097860.00000
SECONDARY_XY_ORIGIN: 291361.22700 5097648.42700
NATION: US
NATION: "SCIENCE
STATE: MT
NW_QUAD_CORNER_XY: 291903.22600 5097559.47700
NE_QUAD_CORNER_XY: 296742.56900 5097397.97400
SE_QUAD_CORNERY_XY: 296513.68300 5090454.07300
SW_QUAD_CORNER_XY: 291668.88200 5090615.58700
SECONDARY_NW_QUAD_XY: 291896.94700 5097341.61100
SECONDARY_NE_QUAD_XY: 296736.43700 5097180.10400
SECONDARY_SE_QUAD_XY: 296507.55100 5090236.24500
SECONDARY_SW_QUAD_XY: 291662.60500 5090397.76400
RMSE_XY: 2.50000
IMAGE_SOURCE: BLACK AND WHITE FILM
SOURCE_IMAGE_ID: NAPP 8393 109
SOURCE_IMAGE_DATE: 1995 08 19
SOURCE_IMAGE_ID: NAPP 8389 117
SOURCE_IMAGE_DATE: 1995 07 31
SOURCE_IMAGE_ID: NAPP 8389 118
SOURCE_IMAGE_DATE: 1995 07 31
SOURCE_IMAGE_ID: NAPP 8393 110
SOURCE_IMAGE_DATE: 1995 08 19
SOURCE_DEM_DATE: 1997 00 00
AGENCY: WESTERN MAPPING CENTER (WMC)
PRODUCER: UNDEFINED
PRODUCTION_SYSTEM: GIS/MAGIC
COMPRESSION: UNDEFINED
STANDARD_VERSION: 1996 12
METADATA_DATE: 2000 05 20
DATA_FILE_SIZE: 44343852
BYTE_COUNT: 5747
