FILENAME: O4511304.NWS.1076845.tif
QUADRANGLE_NAME: KELLY LAKE
QUADRANT: NW
WEST_LONGITUDE: -113 37 30.00000
EAST_LONGITUDE: -113 33 45.00000
NORTH_LATITUDE: 46 0 0.00000
SOUTH_LATITUDE: 45 56 15.00000
PRODUCTION_DATE: 2000 4 18
RASTER_ORDER: LEFT_RIGHT/TOP_BOTTOM
BAND_ORGANIZATION: SINGLE FILE
BAND_CONTENT: BLACK&WHITE
BAND_CONTENT: UNDEFINED
BAND_CONTENT: UNDEFINED
BITS_PER_PIXEL: 8
SAMPLES_AND_LINES: 5741 7710
HORIZONTAL_DATUM: NAD83
HORIZONTAL_COORDINATE_SYSTEM: UTM
COORDINATE_ZONE: 12
HORIZONTAL_UNITS: METERS
HORIZONTAL_RESOLUTION: 1.00000
SECONDARY_HORIZONTAL_DATUM: NAD27
XY_ORIGIN: 296142.00000 5097698.00000
SECONDARY_XY_ORIGIN: 296206.17200 5097486.45200
NATION: US
NATION: "SCIENCE
STATE: MT
NW_QUAD_CORNER_XY: 296742.56900 5097397.97400
NE_QUAD_CORNER_XY: 301581.92100 5097240.27700
SE_QUAD_CORNERY_XY: 301358.49100 5090296.36400
SW_QUAD_CORNER_XY: 296513.68300 5090454.07300
SECONDARY_NW_QUAD_XY: 296736.43700 5097180.10400
SECONDARY_NE_QUAD_XY: 301575.93500 5097022.40200
SECONDARY_SE_QUAD_XY: 301352.50600 5090078.53100
SECONDARY_SW_QUAD_XY: 296507.55100 5090236.24500
RMSE_XY: 2.20000
IMAGE_SOURCE: BLACK AND WHITE FILM
SOURCE_IMAGE_ID: NAPP 8389 231
SOURCE_IMAGE_DATE: 1995 07 31
SOURCE_IMAGE_ID: NAPP 8389 230
SOURCE_IMAGE_DATE: 1995 07 31
SOURCE_DEM_DATE: 1997 00 00
AGENCY: WESTERN MAPPING CENTER (WMC)
PRODUCER: UNDEFINED
PRODUCTION_SYSTEM: GIS/MAGIC
COMPRESSION: UNDEFINED
STANDARD_VERSION: 1996 12
METADATA_DATE: 2000 05 29
DATA_FILE_SIZE: 44268851
BYTE_COUNT: 5741
