FILENAME: O4511305.NWS.1076849.tif
QUADRANGLE_NAME: WARREN PEAK
QUADRANT: NW
WEST_LONGITUDE: -113 30 0.00000
EAST_LONGITUDE: -113 26 15.00000
NORTH_LATITUDE: 46 0 0.00000
SOUTH_LATITUDE: 45 56 15.00000
PRODUCTION_DATE: 2000 4 18
RASTER_ORDER: LEFT_RIGHT/TOP_BOTTOM
BAND_ORGANIZATION: SINGLE FILE
BAND_CONTENT: BLACK&WHITE
BAND_CONTENT: UNDEFINED
BAND_CONTENT: UNDEFINED
BITS_PER_PIXEL: 8
SAMPLES_AND_LINES: 5730 7704
HORIZONTAL_DATUM: NAD83
HORIZONTAL_COORDINATE_SYSTEM: UTM
COORDINATE_ZONE: 12
HORIZONTAL_UNITS: METERS
HORIZONTAL_RESOLUTION: 1.00000
SECONDARY_HORIZONTAL_DATUM: NAD27
XY_ORIGIN: 305832.00000 5097387.00000
SECONDARY_XY_ORIGIN: 305896.06400 5097175.50200
NATION: US
NATION: "SCIENCE
STATE: MT
NW_QUAD_CORNER_XY: 306421.28100 5097086.38400
NE_QUAD_CORNER_XY: 311260.64900 5096936.29500
SE_QUAD_CORNERY_XY: 311048.13000 5089992.36000
SW_QUAD_CORNER_XY: 306203.30700 5090142.46000
SECONDARY_NW_QUAD_XY: 306415.44000 5096868.50400
SECONDARY_NE_QUAD_XY: 311254.95400 5096718.41100
SECONDARY_SE_QUAD_XY: 311042.43700 5089774.51800
SECONDARY_SW_QUAD_XY: 306197.46800 5089924.62200
RMSE_XY: 1.70000
IMAGE_SOURCE: BLACK AND WHITE FILM
SOURCE_IMAGE_ID: NAPP 8404 109
SOURCE_IMAGE_DATE: 1995 09 12
SOURCE_IMAGE_ID: NAPP 8391 244
SOURCE_IMAGE_DATE: 1995 08 01
SOURCE_IMAGE_ID: NAPP 8404 120
SOURCE_IMAGE_DATE: 1995 09 12
SOURCE_IMAGE_ID: NAPP 8404 118
SOURCE_IMAGE_DATE: 1995 09 12
SOURCE_IMAGE_ID: NAPP 8404 107
SOURCE_IMAGE_DATE: 1995 09 12
SOURCE_DEM_DATE: 1955 00 00
AGENCY: WESTERN MAPPING CENTER (WMC)
PRODUCER: UNDEFINED
PRODUCTION_SYSTEM: GIS/MAGIC
COMPRESSION: UNDEFINED
STANDARD_VERSION: 1996 12
METADATA_DATE: 2000 05 29
DATA_FILE_SIZE: 44149650
BYTE_COUNT: 5730
