FILENAME: O4511306.SES.1076870.tif
QUADRANGLE_NAME: LONG PEAK
QUADRANT: SE
WEST_LONGITUDE: -113 18 45.00000
EAST_LONGITUDE: -113 15 0.00000
NORTH_LATITUDE: 45 56 15.00000
SOUTH_LATITUDE: 45 52 30.00000
PRODUCTION_DATE: 2000 4 20
RASTER_ORDER: LEFT_RIGHT/TOP_BOTTOM
BAND_ORGANIZATION: SINGLE FILE
BAND_CONTENT: BLACK&WHITE
BAND_CONTENT: UNDEFINED
BAND_CONTENT: UNDEFINED
BITS_PER_PIXEL: 8
SAMPLES_AND_LINES: 5718 7692
HORIZONTAL_DATUM: NAD83
HORIZONTAL_COORDINATE_SYSTEM: UTM
COORDINATE_ZONE: 12
HORIZONTAL_UNITS: METERS
HORIZONTAL_RESOLUTION: 1.00000
SECONDARY_HORIZONTAL_DATUM: NAD27
XY_ORIGIN: 320166.00000 5090004.00000
SECONDARY_XY_ORIGIN: 320229.82300 5089792.60200
NATION: US
NATION: "SCIENCE
STATE: MT
NW_QUAD_CORNER_XY: 320737.79900 5089703.57400
NE_QUAD_CORNER_XY: 325582.64300 5089564.88700
SE_QUAD_CORNERY_XY: 325386.69800 5082620.98600
SW_QUAD_CORNER_XY: 320536.40500 5082759.68200
SECONDARY_NW_QUAD_XY: 320732.39800 5089485.72400
SECONDARY_NE_QUAD_XY: 325577.38800 5089347.03200
SECONDARY_SE_QUAD_XY: 325381.44400 5082403.17400
SECONDARY_SW_QUAD_XY: 320531.00500 5082541.87500
RMSE_XY: 1.40000
IMAGE_SOURCE: BLACK AND WHITE FILM
SOURCE_IMAGE_ID: NAPP 8391 154
SOURCE_IMAGE_DATE: 1995 08 01
SOURCE_IMAGE_ID: NAPP 8391 152
SOURCE_IMAGE_DATE: 1995 08 01
SOURCE_DEM_DATE: 1955 00 00
AGENCY: WESTERN MAPPING CENTER (WMC)
PRODUCER: UNDEFINED
PRODUCTION_SYSTEM: GIS/MAGIC
COMPRESSION: UNDEFINED
STANDARD_VERSION: 1996 12
METADATA_DATE: 2000 05 29
DATA_FILE_SIZE: 43988574
BYTE_COUNT: 5718
