FILENAME: O4511306.NWS.1076869.tif
QUADRANGLE_NAME: LONG PEAK
QUADRANT: NW
WEST_LONGITUDE: -113 22 30.00000
EAST_LONGITUDE: -113 18 45.00000
NORTH_LATITUDE: 46 0 0.00000
SOUTH_LATITUDE: 45 56 15.00000
PRODUCTION_DATE: 2000 4 20
RASTER_ORDER: LEFT_RIGHT/TOP_BOTTOM
BAND_ORGANIZATION: SINGLE FILE
BAND_CONTENT: BLACK&WHITE
BAND_CONTENT: UNDEFINED
BAND_CONTENT: UNDEFINED
BITS_PER_PIXEL: 8
SAMPLES_AND_LINES: 5719 7696
HORIZONTAL_DATUM: NAD83
HORIZONTAL_COORDINATE_SYSTEM: UTM
COORDINATE_ZONE: 12
HORIZONTAL_UNITS: METERS
HORIZONTAL_RESOLUTION: 1.00000
SECONDARY_HORIZONTAL_DATUM: NAD27
XY_ORIGIN: 315522.00000 5097091.00000
SECONDARY_XY_ORIGIN: 315585.89600 5096879.54200
NATION: US
NATION: "SCIENCE
STATE: MT
NW_QUAD_CORNER_XY: 316100.02400 5096790.01100
NE_QUAD_CORNER_XY: 320939.40700 5096647.53000
SE_QUAD_CORNERY_XY: 320737.79900 5089703.57400
SW_QUAD_CORNER_XY: 315892.96100 5089846.06500
SECONDARY_NW_QUAD_XY: 316094.47600 5096572.12200
SECONDARY_NE_QUAD_XY: 320934.00500 5096429.63700
SECONDARY_SE_QUAD_XY: 320732.39800 5089485.72400
SECONDARY_SW_QUAD_XY: 315887.41400 5089628.21900
RMSE_XY: 1.40000
IMAGE_SOURCE: BLACK AND WHITE FILM
SOURCE_IMAGE_ID: NAPP 8391 157
SOURCE_IMAGE_DATE: 1995 08 01
SOURCE_IMAGE_ID: NAPP 8404 107
SOURCE_IMAGE_DATE: 1995 09 12
SOURCE_IMAGE_ID: NAPP 8404 108
SOURCE_IMAGE_DATE: 1995 09 12
SOURCE_IMAGE_ID: NAPP 8404 109
SOURCE_IMAGE_DATE: 1995 09 12
SOURCE_IMAGE_ID: NAPP 8404 100
SOURCE_IMAGE_DATE: 1995 09 12
SOURCE_DEM_DATE: 1955 00 00
AGENCY: WESTERN MAPPING CENTER (WMC)
PRODUCER: UNDEFINED
PRODUCTION_SYSTEM: GIS/MAGIC
COMPRESSION: UNDEFINED
STANDARD_VERSION: 1996 12
METADATA_DATE: 2000 05 29
DATA_FILE_SIZE: 44019143
BYTE_COUNT: 5719
