FILENAME: O4511307.SES.1076620.tif
QUADRANGLE_NAME: LOWER SEYMOUR LAKE
QUADRANT: SE
WEST_LONGITUDE: -113 11 15.00000
EAST_LONGITUDE: -113 7 30.00000
NORTH_LATITUDE: 45 56 15.00000
SOUTH_LATITUDE: 45 52 30.00000
PRODUCTION_DATE: 2000 4 20
RASTER_ORDER: LEFT_RIGHT/TOP_BOTTOM
BAND_ORGANIZATION: SINGLE FILE
BAND_CONTENT: BLACK&WHITE
BAND_CONTENT: UNDEFINED
BAND_CONTENT: UNDEFINED
BITS_PER_PIXEL: 8
SAMPLES_AND_LINES: 5707 7685
HORIZONTAL_DATUM: NAD83
HORIZONTAL_COORDINATE_SYSTEM: UTM
COORDINATE_ZONE: 12
HORIZONTAL_UNITS: METERS
HORIZONTAL_RESOLUTION: 1.00000
SECONDARY_HORIZONTAL_DATUM: NAD27
XY_ORIGIN: 329867.00000 5089731.00000
SECONDARY_XY_ORIGIN: 329930.65100 5089519.65300
NATION: US
NATION: "SCIENCE
STATE: MT
NW_QUAD_CORNER_XY: 330427.49400 5089430.00300
NE_QUAD_CORNER_XY: 335272.35200 5089298.92200
SE_QUAD_CORNERY_XY: 335087.30200 5082355.00300
SW_QUAD_CORNER_XY: 330236.99700 5082486.09300
SECONDARY_NW_QUAD_XY: 330422.38500 5089212.14400
SECONDARY_NE_QUAD_XY: 335267.38900 5089081.05900
SECONDARY_SE_QUAD_XY: 335082.34000 5082137.18300
SECONDARY_SW_QUAD_XY: 330231.88900 5082268.27700
RMSE_XY: 1.40000
IMAGE_SOURCE: BLACK AND WHITE FILM
SOURCE_IMAGE_ID: NAPP 8393 271
SOURCE_IMAGE_DATE: 1995 08 19
SOURCE_DEM_DATE: 1955 00 00
AGENCY: WESTERN MAPPING CENTER (WMC)
PRODUCER: UNDEFINED
PRODUCTION_SYSTEM: GIS/MAGIC
COMPRESSION: UNDEFINED
STANDARD_VERSION: 1996 12
METADATA_DATE: 2000 05 25
DATA_FILE_SIZE: 43864002
BYTE_COUNT: 5707
