FILENAME: O4511307.NWS.1076618.tif
QUADRANGLE_NAME: LOWER SEYMOUR LAKE
QUADRANT: NW
WEST_LONGITUDE: -113 15 0.00000
EAST_LONGITUDE: -113 11 15.00000
NORTH_LATITUDE: 46 0 0.00000
SOUTH_LATITUDE: 45 56 15.00000
PRODUCTION_DATE: 2000 4 20
RASTER_ORDER: LEFT_RIGHT/TOP_BOTTOM
BAND_ORGANIZATION: SINGLE FILE
BAND_CONTENT: BLACK&WHITE
BAND_CONTENT: UNDEFINED
BAND_CONTENT: UNDEFINED
BITS_PER_PIXEL: 8
SAMPLES_AND_LINES: 5708 7688
HORIZONTAL_DATUM: NAD83
HORIZONTAL_COORDINATE_SYSTEM: UTM
COORDINATE_ZONE: 12
HORIZONTAL_UNITS: METERS
HORIZONTAL_RESOLUTION: 1.00000
SECONDARY_HORIZONTAL_DATUM: NAD27
XY_ORIGIN: 325212.00000 5096809.00000
SECONDARY_XY_ORIGIN: 325275.72900 5096597.58100
NATION: US
NATION: "SCIENCE
STATE: MT
NW_QUAD_CORNER_XY: 325778.79700 5096508.85300
NE_QUAD_CORNER_XY: 330618.19400 5096373.97800
SE_QUAD_CORNERY_XY: 330427.49400 5089430.00300
SW_QUAD_CORNER_XY: 325582.64300 5089564.88700
SECONDARY_NW_QUAD_XY: 325773.54100 5096290.95600
SECONDARY_NE_QUAD_XY: 330613.08400 5096156.07700
SECONDARY_SE_QUAD_XY: 330422.38500 5089212.14400
SECONDARY_SW_QUAD_XY: 325577.38800 5089347.03200
RMSE_XY: 2.30000
IMAGE_SOURCE: BLACK AND WHITE FILM
SOURCE_IMAGE_ID: NAPP 8393 194
SOURCE_IMAGE_DATE: 1995 08 19
SOURCE_IMAGE_ID: NAPP 8391 157
SOURCE_IMAGE_DATE: 1995 08 01
SOURCE_IMAGE_ID: NAPP 8393 274
SOURCE_IMAGE_DATE: 1995 08 19
SOURCE_DEM_DATE: 1955 00 00
AGENCY: WESTERN MAPPING CENTER (WMC)
PRODUCER: UNDEFINED
PRODUCTION_SYSTEM: GIS/MAGIC
COMPRESSION: UNDEFINED
STANDARD_VERSION: 1996 12
METADATA_DATE: 2000 05 25
DATA_FILE_SIZE: 43888812
BYTE_COUNT: 5708
