FILENAME: O4511308.NWS.1076652.tif
QUADRANGLE_NAME: LINCOLN GULCH
QUADRANT: NW
WEST_LONGITUDE: -113 7 30.00000
EAST_LONGITUDE: -113 3 45.00000
NORTH_LATITUDE: 46 0 0.00000
SOUTH_LATITUDE: 45 56 15.00000
PRODUCTION_DATE: 2000 4 20
RASTER_ORDER: LEFT_RIGHT/TOP_BOTTOM
BAND_ORGANIZATION: SINGLE FILE
BAND_CONTENT: BLACK&WHITE
BAND_CONTENT: UNDEFINED
BAND_CONTENT: UNDEFINED
BITS_PER_PIXEL: 8
SAMPLES_AND_LINES: 5697 7680
HORIZONTAL_DATUM: NAD83
HORIZONTAL_COORDINATE_SYSTEM: UTM
COORDINATE_ZONE: 12
HORIZONTAL_UNITS: METERS
HORIZONTAL_RESOLUTION: 1.00000
SECONDARY_HORIZONTAL_DATUM: NAD27
XY_ORIGIN: 334902.00000 5096543.00000
SECONDARY_XY_ORIGIN: 334965.57300 5096331.65600
NATION: US
NATION: "SCIENCE
STATE: MT
NW_QUAD_CORNER_XY: 335457.59900 5096242.90700
NE_QUAD_CORNER_XY: 340297.00900 5096115.63800
SE_QUAD_CORNERY_XY: 340117.21600 5089171.64400
SW_QUAD_CORNER_XY: 335272.35200 5089298.92200
SECONDARY_NW_QUAD_XY: 335452.63400 5096025.00200
SECONDARY_NE_QUAD_XY: 340292.19100 5095897.72900
SECONDARY_SE_QUAD_XY: 340112.39900 5088953.77700
SECONDARY_SW_QUAD_XY: 335267.38900 5089081.05900
RMSE_XY: 1.10000
IMAGE_SOURCE: BLACK AND WHITE FILM
SOURCE_IMAGE_ID: NAPP 8402 010
SOURCE_IMAGE_DATE: 1995 09 02
SOURCE_IMAGE_ID: NAPP 8402 009
SOURCE_IMAGE_DATE: 1995 09 02
SOURCE_IMAGE_ID: NAPP 8402 024
SOURCE_IMAGE_DATE: 1995 09 02
SOURCE_DEM_DATE: 1955 00 00
AGENCY: WESTERN MAPPING CENTER (WMC)
PRODUCER: UNDEFINED
PRODUCTION_SYSTEM: GIS/MAGIC
COMPRESSION: UNDEFINED
STANDARD_VERSION: 1996 12
METADATA_DATE: 2000 05 25
DATA_FILE_SIZE: 43758657
BYTE_COUNT: 5697
