FILENAME: O4511309.SES.1074757.tif
QUADRANGLE_NAME: SULA
QUADRANT: SE
WEST_LONGITUDE: -113 56 15.00000
EAST_LONGITUDE: -113 52 30.00000
NORTH_LATITUDE: 45 48 45.00000
SOUTH_LATITUDE: 45 45 0.00000
PRODUCTION_DATE: 2000 3 8
RASTER_ORDER: LEFT_RIGHT/TOP_BOTTOM
BAND_ORGANIZATION: SINGLE FILE
BAND_CONTENT: BLACK&WHITE
BAND_CONTENT: UNDEFINED
BAND_CONTENT: UNDEFINED
BITS_PER_PIXEL: 8
SAMPLES_AND_LINES: 5785 7730
HORIZONTAL_DATUM: NAD83
HORIZONTAL_COORDINATE_SYSTEM: UTM
COORDINATE_ZONE: 12
HORIZONTAL_UNITS: METERS
HORIZONTAL_RESOLUTION: 1.00000
SECONDARY_HORIZONTAL_DATUM: NAD27
XY_ORIGIN: 271150.00000 5077713.00000
SECONDARY_XY_ORIGIN: 271214.29500 5077501.51900
NATION: US
NATION: "SCIENCE
STATE: MT
NW_QUAD_CORNER_XY: 271778.22200 5077412.19400
NE_QUAD_CORNER_XY: 276633.89100 5077235.43100
SE_QUAD_CORNERY_XY: 276383.97300 5070291.75000
SW_QUAD_CORNER_XY: 271522.86100 5070468.52300
SECONDARY_NW_QUAD_XY: 271771.36400 5077194.47900
SECONDARY_NE_QUAD_XY: 276627.17900 5077017.71100
SECONDARY_SE_QUAD_XY: 276377.26200 5070074.07400
SECONDARY_SW_QUAD_XY: 271516.00500 5070250.85300
RMSE_XY: 1.60000
IMAGE_SOURCE: BLACK AND WHITE FILM
SOURCE_IMAGE_ID: NAPP 8389 093
SOURCE_IMAGE_DATE: 1995 07 31
SOURCE_IMAGE_ID: NAPP 8389 094
SOURCE_IMAGE_DATE: 1995 07 31
SOURCE_IMAGE_ID: NAPP 8389 092
SOURCE_IMAGE_DATE: 1995 07 31
SOURCE_IMAGE_ID: NAPP 8393 039
SOURCE_IMAGE_DATE: 1995 08 19
SOURCE_DEM_DATE: 1997 00 00
AGENCY: WESTERN MAPPING CENTER (WMC)
PRODUCER: UNDEFINED
PRODUCTION_SYSTEM: GIS/MAGIC
COMPRESSION: UNDEFINED
STANDARD_VERSION: 1996 12
METADATA_DATE: 2000 05 20
DATA_FILE_SIZE: 44723835
BYTE_COUNT: 5785
