FILENAME: O4511309.NWS.1074756.tif
QUADRANGLE_NAME: SULA
QUADRANT: NW
WEST_LONGITUDE: -114 0 0.00000
EAST_LONGITUDE: -113 56 15.00000
NORTH_LATITUDE: 45 52 30.00000
SOUTH_LATITUDE: 45 48 45.00000
PRODUCTION_DATE: 2000 3 8
RASTER_ORDER: LEFT_RIGHT/TOP_BOTTOM
BAND_ORGANIZATION: SINGLE FILE
BAND_CONTENT: BLACK&WHITE
BAND_CONTENT: UNDEFINED
BAND_CONTENT: UNDEFINED
BITS_PER_PIXEL: 8
SAMPLES_AND_LINES: 5785 7734
HORIZONTAL_DATUM: NAD83
HORIZONTAL_COORDINATE_SYSTEM: UTM
COORDINATE_ZONE: 12
HORIZONTAL_UNITS: METERS
HORIZONTAL_RESOLUTION: 1.00000
SECONDARY_HORIZONTAL_DATUM: NAD27
XY_ORIGIN: 266550.00000 5084837.00000
SECONDARY_XY_ORIGIN: 266614.24800 5084625.42700
NATION: US
NATION: "SCIENCE
STATE: MT
NW_QUAD_CORNER_XY: 267183.64300 5084536.48100
NE_QUAD_CORNER_XY: 272033.85500 5084355.92200
SE_QUAD_CORNERY_XY: 271778.22200 5077412.19400
SW_QUAD_CORNER_XY: 266922.56100 5077592.76500
SECONDARY_NW_QUAD_XY: 267176.63700 5084318.72700
SECONDARY_NE_QUAD_XY: 272026.99500 5084138.16200
SECONDARY_SE_QUAD_XY: 271771.36400 5077194.47900
SECONDARY_SW_QUAD_XY: 266915.55600 5077375.05500
RMSE_XY: 1.90000
IMAGE_SOURCE: BLACK AND WHITE FILM
SOURCE_IMAGE_ID: NAPP 8389 012
SOURCE_IMAGE_DATE: 1995 07 31
SOURCE_IMAGE_ID: NAPP 8389 011
SOURCE_IMAGE_DATE: 1995 07 31
SOURCE_IMAGE_ID: NAPP 8389 013
SOURCE_IMAGE_DATE: 1995 07 31
SOURCE_IMAGE_ID: NAPP 8389 091
SOURCE_IMAGE_DATE: 1995 07 31
SOURCE_DEM_DATE: 1997 00 00
AGENCY: WESTERN MAPPING CENTER (WMC)
PRODUCER: UNDEFINED
PRODUCTION_SYSTEM: GIS/MAGIC
COMPRESSION: UNDEFINED
STANDARD_VERSION: 1996 12
METADATA_DATE: 2000 05 20
DATA_FILE_SIZE: 44746975
BYTE_COUNT: 5785
