FILENAME: O4511310.SWS.1074782.tif
QUADRANGLE_NAME: SCHULTZ SADDLE
QUADRANT: SW
WEST_LONGITUDE: -113 52 30.00000
EAST_LONGITUDE: -113 48 45.00000
NORTH_LATITUDE: 45 48 45.00000
SOUTH_LATITUDE: 45 45 0.00000
PRODUCTION_DATE: 2000 5 20
RASTER_ORDER: LEFT_RIGHT/TOP_BOTTOM
BAND_ORGANIZATION: SINGLE FILE
BAND_CONTENT: BLACK&WHITE
BAND_CONTENT: UNDEFINED
BAND_CONTENT: UNDEFINED
BITS_PER_PIXEL: 8
SAMPLES_AND_LINES: 5780 7726
HORIZONTAL_DATUM: NAD83
HORIZONTAL_COORDINATE_SYSTEM: UTM
COORDINATE_ZONE: 12
HORIZONTAL_UNITS: METERS
HORIZONTAL_RESOLUTION: 1.00000
SECONDARY_HORIZONTAL_DATUM: NAD27
XY_ORIGIN: 276011.00000 5077536.00000
SECONDARY_XY_ORIGIN: 276075.31600 5077324.53400
NATION: US
NATION: "SCIENCE
STATE: MT
NW_QUAD_CORNER_XY: 276633.89100 5077235.43100
NE_QUAD_CORNER_XY: 281489.56700 5077062.47600
SE_QUAD_CORNERY_XY: 281245.09000 5070118.78400
SW_QUAD_CORNER_XY: 276383.97300 5070291.75000
SECONDARY_NW_QUAD_XY: 276627.17900 5077017.71100
SECONDARY_NE_QUAD_XY: 281483.00100 5076844.75000
SECONDARY_SE_QUAD_XY: 281238.52600 5069901.10300
SECONDARY_SW_QUAD_XY: 276377.26200 5070074.07400
RMSE_XY: 2.30000
IMAGE_SOURCE: BLACK AND WHITE FILM
SOURCE_IMAGE_ID: NAPP 8393 039
SOURCE_IMAGE_DATE: 1995 08 19
SOURCE_IMAGE_ID: NAPP 8389 092
SOURCE_IMAGE_DATE: 1995 07 31
SOURCE_IMAGE_ID: NAPP 8393 040
SOURCE_IMAGE_DATE: 1995 08 19
SOURCE_IMAGE_ID: NAPP 8393 038
SOURCE_IMAGE_DATE: 1995 08 19
SOURCE_DEM_DATE: 1997 00 00
AGENCY: WESTERN MAPPING CENTER (WMC)
PRODUCER: UNDEFINED
PRODUCTION_SYSTEM: GIS/MAGIC
COMPRESSION: UNDEFINED
STANDARD_VERSION: 1996 12
METADATA_DATE: 2000 05 20
DATA_FILE_SIZE: 44662060
BYTE_COUNT: 5780
