FILENAME: O4511310.NES.1074779.tif
QUADRANGLE_NAME: SCHULTZ SADDLE
QUADRANT: NE
WEST_LONGITUDE: -113 48 45.00000
EAST_LONGITUDE: -113 45 0.00000
NORTH_LATITUDE: 45 52 30.00000
SOUTH_LATITUDE: 45 48 45.00000
PRODUCTION_DATE: 2000 3 9
RASTER_ORDER: LEFT_RIGHT/TOP_BOTTOM
BAND_ORGANIZATION: SINGLE FILE
BAND_CONTENT: BLACK&WHITE
BAND_CONTENT: UNDEFINED
BAND_CONTENT: UNDEFINED
BITS_PER_PIXEL: 8
SAMPLES_AND_LINES: 5769 7722
HORIZONTAL_DATUM: NAD83
HORIZONTAL_COORDINATE_SYSTEM: UTM
COORDINATE_ZONE: 12
HORIZONTAL_UNITS: METERS
HORIZONTAL_RESOLUTION: 1.00000
SECONDARY_HORIZONTAL_DATUM: NAD27
XY_ORIGIN: 281117.00000 5084307.00000
SECONDARY_XY_ORIGIN: 281181.31000 5084095.48800
NATION: US
NATION: "SCIENCE
STATE: MT
NW_QUAD_CORNER_XY: 281734.30600 5084006.22600
NE_QUAD_CORNER_XY: 286584.54300 5083837.08800
SE_QUAD_CORNERY_XY: 286345.25100 5076893.32800
SW_QUAD_CORNER_XY: 281489.56700 5077062.47600
SECONDARY_NW_QUAD_XY: 281727.73800 5083788.45600
SECONDARY_NE_QUAD_XY: 286578.12100 5083619.31300
SECONDARY_SE_QUAD_XY: 286338.83100 5076675.59700
SECONDARY_SW_QUAD_XY: 281483.00100 5076844.75000
RMSE_XY: 2.60000
IMAGE_SOURCE: BLACK AND WHITE FILM
SOURCE_IMAGE_ID: NAPP 8404 143
SOURCE_IMAGE_DATE: 1995 09 12
SOURCE_IMAGE_ID: NAPP 8404 144
SOURCE_IMAGE_DATE: 1995 09 12
SOURCE_IMAGE_ID: NAPP 8389 113
SOURCE_IMAGE_DATE: 1995 07 31
SOURCE_DEM_DATE: 1997 00 00
AGENCY: WESTERN MAPPING CENTER (WMC)
PRODUCER: UNDEFINED
PRODUCTION_SYSTEM: GIS/MAGIC
COMPRESSION: UNDEFINED
STANDARD_VERSION: 1996 12
METADATA_DATE: 2000 05 20
DATA_FILE_SIZE: 44553987
BYTE_COUNT: 5769
