FILENAME: O4511311.SES.1076750.tif
QUADRANGLE_NAME: BENDER POINT
QUADRANT: SE
WEST_LONGITUDE: -113 41 15.00000
EAST_LONGITUDE: -113 37 30.00000
NORTH_LATITUDE: 45 48 45.00000
SOUTH_LATITUDE: 45 45 0.00000
PRODUCTION_DATE: 2000 4 14
RASTER_ORDER: LEFT_RIGHT/TOP_BOTTOM
BAND_ORGANIZATION: SINGLE FILE
BAND_CONTENT: BLACK&WHITE
BAND_CONTENT: UNDEFINED
BAND_CONTENT: UNDEFINED
BITS_PER_PIXEL: 8
SAMPLES_AND_LINES: 5763 7714
HORIZONTAL_DATUM: NAD83
HORIZONTAL_COORDINATE_SYSTEM: UTM
COORDINATE_ZONE: 12
HORIZONTAL_UNITS: METERS
HORIZONTAL_RESOLUTION: 1.00000
SECONDARY_HORIZONTAL_DATUM: NAD27
XY_ORIGIN: 290595.00000 5077028.00000
SECONDARY_XY_ORIGIN: 290659.30800 5076816.58000
NATION: US
NATION: "SCIENCE
STATE: MT
NW_QUAD_CORNER_XY: 291200.94200 5076727.98600
NE_QUAD_CORNER_XY: 296056.64000 5076566.45000
SE_QUAD_CORNERY_XY: 295828.48400 5069622.73000
SW_QUAD_CORNER_XY: 290967.34600 5069784.27500
SECONDARY_NW_QUAD_XY: 291194.66700 5076510.25000
SECONDARY_NE_QUAD_XY: 296050.51100 5076348.71000
SECONDARY_SE_QUAD_XY: 295822.35700 5069405.03400
SECONDARY_SW_QUAD_XY: 290961.07300 5069566.58400
RMSE_XY: 2.10000
IMAGE_SOURCE: BLACK AND WHITE FILM
SOURCE_IMAGE_ID: NAPP 8393 103
SOURCE_IMAGE_DATE: 1995 08 19
SOURCE_IMAGE_ID: NAPP 8393 102
SOURCE_IMAGE_DATE: 1995 08 19
SOURCE_IMAGE_ID: NAPP 8393 104
SOURCE_IMAGE_DATE: 1995 08 19
SOURCE_IMAGE_ID: NAPP 8389 226
SOURCE_IMAGE_DATE: 1995 07 31
SOURCE_DEM_DATE: 2000 01 01
AGENCY: WESTERN MAPPING CENTER (WMC)
PRODUCER: UNDEFINED
PRODUCTION_SYSTEM: GIS/MAGIC
COMPRESSION: UNDEFINED
STANDARD_VERSION: 1996 12
METADATA_DATE: 2000 05 19
DATA_FILE_SIZE: 44461545
BYTE_COUNT: 5763
