FILENAME: O4511312.SES.1076475.tif
QUADRANGLE_NAME: MUSSIGBROD LAKE
QUADRANT: SE
WEST_LONGITUDE: -113 33 45.00000
EAST_LONGITUDE: -113 30 0.00000
NORTH_LATITUDE: 45 48 45.00000
SOUTH_LATITUDE: 45 45 0.00000
PRODUCTION_DATE: 2000 4 18
RASTER_ORDER: LEFT_RIGHT/TOP_BOTTOM
BAND_ORGANIZATION: SINGLE FILE
BAND_CONTENT: BLACK&WHITE
BAND_CONTENT: UNDEFINED
BAND_CONTENT: UNDEFINED
BITS_PER_PIXEL: 8
SAMPLES_AND_LINES: 5752 7707
HORIZONTAL_DATUM: NAD83
HORIZONTAL_COORDINATE_SYSTEM: UTM
COORDINATE_ZONE: 12
HORIZONTAL_UNITS: METERS
HORIZONTAL_RESOLUTION: 1.00000
SECONDARY_HORIZONTAL_DATUM: NAD27
XY_ORIGIN: 300318.00000 5076709.00000
SECONDARY_XY_ORIGIN: 300382.18300 5076497.61600
NATION: US
NATION: "SCIENCE
STATE: MT
NW_QUAD_CORNER_XY: 300912.34400 5076408.72100
NE_QUAD_CORNER_XY: 305768.05500 5076254.79700
SE_QUAD_CORNERY_XY: 305550.77800 5069311.05800
SW_QUAD_CORNER_XY: 300689.62800 5069464.99100
SECONDARY_NW_QUAD_XY: 300906.36200 5076190.97500
SECONDARY_NE_QUAD_XY: 305762.21900 5076037.04700
SECONDARY_SE_QUAD_XY: 305544.94300 5069093.35300
SECONDARY_SW_QUAD_XY: 300683.64700 5069247.29000
RMSE_XY: 1.50000
IMAGE_SOURCE: BLACK AND WHITE FILM
SOURCE_IMAGE_ID: NAPP 8391 250
SOURCE_IMAGE_DATE: 1995 08 01
SOURCE_DEM_DATE: 1965 00 00
AGENCY: WESTERN MAPPING CENTER (WMC)
PRODUCER: UNDEFINED
PRODUCTION_SYSTEM: GIS/MAGIC
COMPRESSION: UNDEFINED
STANDARD_VERSION: 1996 12
METADATA_DATE: 2000 05 19
DATA_FILE_SIZE: 44336416
BYTE_COUNT: 5752
