FILENAME: O4511312.NWS.1076474.tif
QUADRANGLE_NAME: MUSSIGBROD LAKE
QUADRANT: NW
WEST_LONGITUDE: -113 37 30.00000
EAST_LONGITUDE: -113 33 45.00000
NORTH_LATITUDE: 45 52 30.00000
SOUTH_LATITUDE: 45 48 45.00000
PRODUCTION_DATE: 2000 4 18
RASTER_ORDER: LEFT_RIGHT/TOP_BOTTOM
BAND_ORGANIZATION: SINGLE FILE
BAND_CONTENT: BLACK&WHITE
BAND_CONTENT: UNDEFINED
BAND_CONTENT: UNDEFINED
BITS_PER_PIXEL: 8
SAMPLES_AND_LINES: 5752 7711
HORIZONTAL_DATUM: NAD83
HORIZONTAL_COORDINATE_SYSTEM: UTM
COORDINATE_ZONE: 12
HORIZONTAL_UNITS: METERS
HORIZONTAL_RESOLUTION: 1.00000
SECONDARY_HORIZONTAL_DATUM: NAD27
XY_ORIGIN: 295685.00000 5083811.00000
SECONDARY_XY_ORIGIN: 295749.22100 5083599.54800
NATION: US
NATION: "SCIENCE
STATE: MT
NW_QUAD_CORNER_XY: 296285.03900 5083510.23100
NE_QUAD_CORNER_XY: 301135.29900 5083352.51200
SE_QUAD_CORNERY_XY: 300912.34400 5076408.72100
SW_QUAD_CORNER_XY: 296056.64000 5076566.45000
SECONDARY_NW_QUAD_XY: 296278.90900 5083292.44700
SECONDARY_NE_QUAD_XY: 301129.31500 5083134.72200
SECONDARY_SE_QUAD_XY: 300906.36200 5076190.97500
SECONDARY_SW_QUAD_XY: 296050.51100 5076348.71000
RMSE_XY: 2.50000
IMAGE_SOURCE: BLACK AND WHITE FILM
SOURCE_IMAGE_ID: NAPP 8389 227
SOURCE_IMAGE_DATE: 1995 07 31
SOURCE_IMAGE_ID: NAPP 8393 106
SOURCE_IMAGE_DATE: 1995 08 19
SOURCE_IMAGE_ID: NAPP 8389 226
SOURCE_IMAGE_DATE: 1995 07 31
SOURCE_IMAGE_ID: NAPP 8389 228
SOURCE_IMAGE_DATE: 1995 07 31
SOURCE_DEM_DATE: 1965 00 00
AGENCY: WESTERN MAPPING CENTER (WMC)
PRODUCER: UNDEFINED
PRODUCTION_SYSTEM: GIS/MAGIC
COMPRESSION: UNDEFINED
STANDARD_VERSION: 1996 12
METADATA_DATE: 2000 05 19
DATA_FILE_SIZE: 44359424
BYTE_COUNT: 5752
