FILENAME: O4511313.SWS.1076519.tif
QUADRANGLE_NAME: PINTLER LAKE
QUADRANT: SW
WEST_LONGITUDE: -113 30 0.00000
EAST_LONGITUDE: -113 26 15.00000
NORTH_LATITUDE: 45 48 45.00000
SOUTH_LATITUDE: 45 45 0.00000
PRODUCTION_DATE: 2000 4 19
RASTER_ORDER: LEFT_RIGHT/TOP_BOTTOM
BAND_ORGANIZATION: SINGLE FILE
BAND_CONTENT: BLACK&WHITE
BAND_CONTENT: UNDEFINED
BAND_CONTENT: UNDEFINED
BITS_PER_PIXEL: 8
SAMPLES_AND_LINES: 5746 7703
HORIZONTAL_DATUM: NAD83
HORIZONTAL_COORDINATE_SYSTEM: UTM
COORDINATE_ZONE: 12
HORIZONTAL_UNITS: METERS
HORIZONTAL_RESOLUTION: 1.00000
SECONDARY_HORIZONTAL_DATUM: NAD27
XY_ORIGIN: 305179.00000 5076555.00000
SECONDARY_XY_ORIGIN: 305243.12400 5076343.63300
NATION: US
NATION: "SCIENCE
STATE: MT
NW_QUAD_CORNER_XY: 305768.05500 5076254.79700
NE_QUAD_CORNER_XY: 310623.77300 5076104.67800
SE_QUAD_CORNERY_XY: 310411.93400 5069160.93100
SW_QUAD_CORNER_XY: 305550.77800 5069311.05800
SECONDARY_NW_QUAD_XY: 305762.21900 5076037.04700
SECONDARY_NE_QUAD_XY: 310618.08200 5075886.92300
SECONDARY_SE_QUAD_XY: 310406.24400 5068943.22100
SECONDARY_SW_QUAD_XY: 305544.94300 5069093.35300
RMSE_XY: 2.60000
IMAGE_SOURCE: BLACK AND WHITE FILM
SOURCE_IMAGE_ID: NAPP 8404 125
SOURCE_IMAGE_DATE: 1995 09 12
SOURCE_DEM_DATE: 1993 00 00
AGENCY: WESTERN MAPPING CENTER (WMC)
PRODUCER: UNDEFINED
PRODUCTION_SYSTEM: GIS/MAGIC
COMPRESSION: UNDEFINED
STANDARD_VERSION: 1996 12
METADATA_DATE: 2000 05 19
DATA_FILE_SIZE: 44267184
BYTE_COUNT: 5746
