FILENAME: O4511313.NES.1076516.tif
QUADRANGLE_NAME: PINTLER LAKE
QUADRANT: NE
WEST_LONGITUDE: -113 26 15.00000
EAST_LONGITUDE: -113 22 30.00000
NORTH_LATITUDE: 45 52 30.00000
SOUTH_LATITUDE: 45 48 45.00000
PRODUCTION_DATE: 2000 4 19
RASTER_ORDER: LEFT_RIGHT/TOP_BOTTOM
BAND_ORGANIZATION: SINGLE FILE
BAND_CONTENT: BLACK&WHITE
BAND_CONTENT: UNDEFINED
BAND_CONTENT: UNDEFINED
BITS_PER_PIXEL: 8
SAMPLES_AND_LINES: 5735 7700
HORIZONTAL_DATUM: NAD83
HORIZONTAL_COORDINATE_SYSTEM: UTM
COORDINATE_ZONE: 12
HORIZONTAL_UNITS: METERS
HORIZONTAL_RESOLUTION: 1.00000
SECONDARY_HORIZONTAL_DATUM: NAD27
XY_ORIGIN: 310253.00000 5083349.00000
SECONDARY_XY_ORIGIN: 310317.01400 5083137.60700
NATION: US
NATION: "SCIENCE
STATE: MT
NW_QUAD_CORNER_XY: 310835.83800 5083048.48800
NE_QUAD_CORNER_XY: 315686.11800 5082902.18300
SE_QUAD_CORNERY_XY: 315479.49600 5075958.36400
SW_QUAD_CORNER_XY: 310623.77300 5076104.67800
SECONDARY_NW_QUAD_XY: 310830.14600 5082830.68900
SECONDARY_NE_QUAD_XY: 315680.57300 5082684.38000
SECONDARY_SE_QUAD_XY: 315473.95200 5075740.60500
SECONDARY_SW_QUAD_XY: 310618.08200 5075886.92300
RMSE_XY: 2.20000
IMAGE_SOURCE: BLACK AND WHITE FILM
SOURCE_IMAGE_ID: NAPP 8391 078
SOURCE_IMAGE_DATE: 1995 08 01
SOURCE_DEM_DATE: 1993 00 00
AGENCY: WESTERN MAPPING CENTER (WMC)
PRODUCER: UNDEFINED
PRODUCTION_SYSTEM: GIS/MAGIC
COMPRESSION: UNDEFINED
STANDARD_VERSION: 1996 12
METADATA_DATE: 2000 05 19
DATA_FILE_SIZE: 44165235
BYTE_COUNT: 5735
