FILENAME: O4511314.SES.1076578.tif
QUADRANGLE_NAME: PINE HILL
QUADRANT: SE
WEST_LONGITUDE: -113 18 45.00000
EAST_LONGITUDE: -113 15 0.00000
NORTH_LATITUDE: 45 48 45.00000
SOUTH_LATITUDE: 45 45 0.00000
PRODUCTION_DATE: 2000 4 25
RASTER_ORDER: LEFT_RIGHT/TOP_BOTTOM
BAND_ORGANIZATION: SINGLE FILE
BAND_CONTENT: BLACK&WHITE
BAND_CONTENT: UNDEFINED
BAND_CONTENT: UNDEFINED
BITS_PER_PIXEL: 8
SAMPLES_AND_LINES: 5728 7692
HORIZONTAL_DATUM: NAD83
HORIZONTAL_COORDINATE_SYSTEM: UTM
COORDINATE_ZONE: 12
HORIZONTAL_UNITS: METERS
HORIZONTAL_RESOLUTION: 1.00000
SECONDARY_HORIZONTAL_DATUM: NAD27
XY_ORIGIN: 319764.00000 5076116.00000
SECONDARY_XY_ORIGIN: 319827.84300 5075904.68300
NATION: US
NATION: "SCIENCE
STATE: MT
NW_QUAD_CORNER_XY: 320335.22600 5075815.85400
NE_QUAD_CORNER_XY: 325190.96200 5075677.14900
SE_QUAD_CORNERY_XY: 324995.43500 5068733.37700
SW_QUAD_CORNER_XY: 320134.26200 5068872.09000
SECONDARY_NW_QUAD_XY: 320329.82800 5075598.09100
SECONDARY_NE_QUAD_XY: 325185.70900 5075459.38200
SECONDARY_SE_QUAD_XY: 324990.18400 5068515.65400
SECONDARY_SW_QUAD_XY: 320128.86500 5068654.37200
RMSE_XY: 1.70000
IMAGE_SOURCE: BLACK AND WHITE FILM
SOURCE_IMAGE_ID: NAPP 8391 150
SOURCE_IMAGE_DATE: 1995 08 01
SOURCE_IMAGE_ID: NAPP 8391 149
SOURCE_IMAGE_DATE: 1995 08 01
SOURCE_IMAGE_ID: NAPP 8391 151
SOURCE_IMAGE_DATE: 1995 08 01
SOURCE_DEM_DATE: 1993 00 00
AGENCY: WESTERN MAPPING CENTER (WMC)
PRODUCER: UNDEFINED
PRODUCTION_SYSTEM: GIS/MAGIC
COMPRESSION: UNDEFINED
STANDARD_VERSION: 1996 12
METADATA_DATE: 2000 05 19
DATA_FILE_SIZE: 44065504
BYTE_COUNT: 5728
