FILENAME: O4511314.NWS.1076577.tif
QUADRANGLE_NAME: PINE HILL
QUADRANT: NW
WEST_LONGITUDE: -113 22 30.00000
EAST_LONGITUDE: -113 18 45.00000
NORTH_LATITUDE: 45 52 30.00000
SOUTH_LATITUDE: 45 48 45.00000
PRODUCTION_DATE: 2000 4 25
RASTER_ORDER: LEFT_RIGHT/TOP_BOTTOM
BAND_ORGANIZATION: SINGLE FILE
BAND_CONTENT: BLACK&WHITE
BAND_CONTENT: UNDEFINED
BAND_CONTENT: UNDEFINED
BITS_PER_PIXEL: 8
SAMPLES_AND_LINES: 5729 7696
HORIZONTAL_DATUM: NAD83
HORIZONTAL_COORDINATE_SYSTEM: UTM
COORDINATE_ZONE: 12
HORIZONTAL_UNITS: METERS
HORIZONTAL_RESOLUTION: 1.00000
SECONDARY_HORIZONTAL_DATUM: NAD27
XY_ORIGIN: 315109.00000 5083203.00000
SECONDARY_XY_ORIGIN: 315172.92300 5082991.62400
NATION: US
NATION: "SCIENCE
STATE: MT
NW_QUAD_CORNER_XY: 315686.11800 5082902.18300
NE_QUAD_CORNER_XY: 320536.40500 5082759.68200
SE_QUAD_CORNERY_XY: 320335.22600 5075815.85400
SW_QUAD_CORNER_XY: 315479.49600 5075958.36400
SECONDARY_NW_QUAD_XY: 315680.57300 5082684.38000
SECONDARY_NE_QUAD_XY: 320531.00500 5082541.87500
SECONDARY_SE_QUAD_XY: 320329.82800 5075598.09100
SECONDARY_SW_QUAD_XY: 315473.95200 5075740.60500
RMSE_XY: 2.30000
IMAGE_SOURCE: BLACK AND WHITE FILM
SOURCE_IMAGE_ID: NAPP 8391 081
SOURCE_IMAGE_DATE: 1995 08 01
SOURCE_IMAGE_ID: NAPP 8391 083
SOURCE_IMAGE_DATE: 1995 08 01
SOURCE_DEM_DATE: 1993 00 00
AGENCY: WESTERN MAPPING CENTER (WMC)
PRODUCER: UNDEFINED
PRODUCTION_SYSTEM: GIS/MAGIC
COMPRESSION: UNDEFINED
STANDARD_VERSION: 1996 12
METADATA_DATE: 2000 05 19
DATA_FILE_SIZE: 44096113
BYTE_COUNT: 5729
